BEGIN:VCALENDAR
VERSION:2.0
PRODID:-//South West Martial Arts - ECPv6.15.17.1//NONSGML v1.0//EN
CALSCALE:GREGORIAN
METHOD:PUBLISH
X-WR-CALNAME:South West Martial Arts
X-ORIGINAL-URL:https://www.swmartialarts.com
X-WR-CALDESC:Events for South West Martial Arts
REFRESH-INTERVAL;VALUE=DURATION:PT1H
X-Robots-Tag:noindex
X-PUBLISHED-TTL:PT1H
BEGIN:VTIMEZONE
TZID:Europe/London
BEGIN:DAYLIGHT
TZOFFSETFROM:+0000
TZOFFSETTO:+0100
TZNAME:BST
DTSTART:20170326T010000
END:DAYLIGHT
BEGIN:STANDARD
TZOFFSETFROM:+0100
TZOFFSETTO:+0000
TZNAME:GMT
DTSTART:20171029T010000
END:STANDARD
BEGIN:DAYLIGHT
TZOFFSETFROM:+0000
TZOFFSETTO:+0100
TZNAME:BST
DTSTART:20180325T010000
END:DAYLIGHT
BEGIN:STANDARD
TZOFFSETFROM:+0100
TZOFFSETTO:+0000
TZNAME:GMT
DTSTART:20181028T010000
END:STANDARD
BEGIN:DAYLIGHT
TZOFFSETFROM:+0000
TZOFFSETTO:+0100
TZNAME:BST
DTSTART:20190331T010000
END:DAYLIGHT
BEGIN:STANDARD
TZOFFSETFROM:+0100
TZOFFSETTO:+0000
TZNAME:GMT
DTSTART:20191027T010000
END:STANDARD
BEGIN:DAYLIGHT
TZOFFSETFROM:+0000
TZOFFSETTO:+0100
TZNAME:BST
DTSTART:20200329T010000
END:DAYLIGHT
BEGIN:STANDARD
TZOFFSETFROM:+0100
TZOFFSETTO:+0000
TZNAME:GMT
DTSTART:20201025T010000
END:STANDARD
BEGIN:DAYLIGHT
TZOFFSETFROM:+0000
TZOFFSETTO:+0100
TZNAME:BST
DTSTART:20210328T010000
END:DAYLIGHT
BEGIN:STANDARD
TZOFFSETFROM:+0100
TZOFFSETTO:+0000
TZNAME:GMT
DTSTART:20211031T010000
END:STANDARD
BEGIN:DAYLIGHT
TZOFFSETFROM:+0000
TZOFFSETTO:+0100
TZNAME:BST
DTSTART:20220327T010000
END:DAYLIGHT
BEGIN:STANDARD
TZOFFSETFROM:+0100
TZOFFSETTO:+0000
TZNAME:GMT
DTSTART:20221030T010000
END:STANDARD
BEGIN:DAYLIGHT
TZOFFSETFROM:+0000
TZOFFSETTO:+0100
TZNAME:BST
DTSTART:20230326T010000
END:DAYLIGHT
BEGIN:STANDARD
TZOFFSETFROM:+0100
TZOFFSETTO:+0000
TZNAME:GMT
DTSTART:20231029T010000
END:STANDARD
END:VTIMEZONE
BEGIN:VEVENT
DTSTART;TZID=Europe/London:20220325T180000
DTEND;TZID=Europe/London:20220325T200000
DTSTAMP:20260421T175338
CREATED:20211009T131406Z
LAST-MODIFIED:20211028T133821Z
UID:27773-1648231200-1648238400@www.swmartialarts.com
SUMMARY:Tournament Training - Sherborne (Gryphon leisure Centre)
DESCRIPTION:18:00-18:30 – Board breaking\n18:30-19:00 – Bleep Test\n19:00-20:00 – Circuit training and sparing
URL:https://www.swmartialarts.com/event/tournament-training-sherborne-gryphon-leisure-centre-2022-03-25/
LOCATION:Gryphon Leisure Centre\, Bristol Road\, Sherborne\, DT9 4EQ
CATEGORIES:Tournament Training
END:VEVENT
BEGIN:VEVENT
DTSTART;TZID=Europe/London:20220225T180000
DTEND;TZID=Europe/London:20220225T200000
DTSTAMP:20260421T175338
CREATED:20211009T131406Z
LAST-MODIFIED:20211028T133821Z
UID:27772-1645812000-1645819200@www.swmartialarts.com
SUMMARY:Tournament Training - Sherborne (Gryphon leisure Centre)
DESCRIPTION:18:00-18:30 – Board breaking\n18:30-19:00 – Bleep Test\n19:00-20:00 – Circuit training and sparing
URL:https://www.swmartialarts.com/event/tournament-training-sherborne-gryphon-leisure-centre-2022-02-25/
LOCATION:Gryphon Leisure Centre\, Bristol Road\, Sherborne\, DT9 4EQ
CATEGORIES:Tournament Training
END:VEVENT
BEGIN:VEVENT
DTSTART;TZID=Europe/London:20220128T180000
DTEND;TZID=Europe/London:20220128T200000
DTSTAMP:20260421T175338
CREATED:20211009T131406Z
LAST-MODIFIED:20211028T133821Z
UID:27771-1643392800-1643400000@www.swmartialarts.com
SUMMARY:Tournament Training - Sherborne (Gryphon leisure Centre)
DESCRIPTION:18:00-18:30 – Board breaking\n18:30-19:00 – Bleep Test\n19:00-20:00 – Circuit training and sparing
URL:https://www.swmartialarts.com/event/tournament-training-sherborne-gryphon-leisure-centre-2022-01-28/
LOCATION:Gryphon Leisure Centre\, Bristol Road\, Sherborne\, DT9 4EQ
CATEGORIES:Tournament Training
END:VEVENT
BEGIN:VEVENT
DTSTART;TZID=Europe/London:20211231T180000
DTEND;TZID=Europe/London:20211231T200000
DTSTAMP:20260421T175338
CREATED:20211009T131406Z
LAST-MODIFIED:20211028T133821Z
UID:27770-1640973600-1640980800@www.swmartialarts.com
SUMMARY:Tournament Training - Sherborne (Gryphon leisure Centre)
DESCRIPTION:18:00-18:30 – Board breaking\n18:30-19:00 – Bleep Test\n19:00-20:00 – Circuit training and sparing
URL:https://www.swmartialarts.com/event/tournament-training-sherborne-gryphon-leisure-centre-2021-12-31/
LOCATION:Gryphon Leisure Centre\, Bristol Road\, Sherborne\, DT9 4EQ
CATEGORIES:Tournament Training
END:VEVENT
BEGIN:VEVENT
DTSTART;TZID=Europe/London:20211126T180000
DTEND;TZID=Europe/London:20211126T200000
DTSTAMP:20260421T175338
CREATED:20211009T131406Z
LAST-MODIFIED:20211028T133821Z
UID:27769-1637949600-1637956800@www.swmartialarts.com
SUMMARY:Tournament Training - Sherborne (Gryphon leisure Centre)
DESCRIPTION:18:00-18:30 – Board breaking\n18:30-19:00 – Bleep Test\n19:00-20:00 – Circuit training and sparing
URL:https://www.swmartialarts.com/event/tournament-training-sherborne-gryphon-leisure-centre-2021-11-26/
LOCATION:Gryphon Leisure Centre\, Bristol Road\, Sherborne\, DT9 4EQ
CATEGORIES:Tournament Training
END:VEVENT
BEGIN:VEVENT
DTSTART;TZID=Europe/London:20211029T180000
DTEND;TZID=Europe/London:20211029T200000
DTSTAMP:20260421T175338
CREATED:20211009T131406Z
LAST-MODIFIED:20211028T133820Z
UID:27708-1635530400-1635537600@www.swmartialarts.com
SUMMARY:Tournament Training - Sherborne (Gryphon leisure Centre)
DESCRIPTION:18:00-18:30 – Board breaking\n18:30-19:00 – Bleep Test\n19:00-20:00 – Circuit training and sparing
URL:https://www.swmartialarts.com/event/tournament-training-sherborne-gryphon-leisure-centre/
LOCATION:Gryphon Leisure Centre\, Bristol Road\, Sherborne\, DT9 4EQ
CATEGORIES:Tournament Training
END:VEVENT
BEGIN:VEVENT
DTSTART;TZID=Europe/London:20200131T173000
DTEND;TZID=Europe/London:20200131T183000
DTSTAMP:20260421T175338
CREATED:20180901T205345Z
LAST-MODIFIED:20191201T183936Z
UID:25324-1580491800-1580495400@www.swmartialarts.com
SUMMARY:Taekwondo Grading\, Gryphon Leisure Centre
DESCRIPTION:Taekwondo Grading\, Gryphon Leisure Centre
URL:https://www.swmartialarts.com/event/tournament-training-gryphon-2020-01-31/
LOCATION:Gryphon Leisure Centre\, Bristol Road\, Sherborne\, DT9 4EQ
CATEGORIES:Grading,Taekwondo,Tournament Training
END:VEVENT
BEGIN:VEVENT
DTSTART;TZID=Europe/London:20191220T183000
DTEND;TZID=Europe/London:20191220T200000
DTSTAMP:20260421T175338
CREATED:20180901T205345Z
LAST-MODIFIED:20191120T163832Z
UID:25323-1576866600-1576872000@www.swmartialarts.com
SUMMARY:Tournament Training\, Gryphon Leisure Centre (Friday)
DESCRIPTION:On the last Friday of each month\, we have “Tournament Training”. Tournament training is open to participants in both Kickboxing and Taekwondo and is designed to give you an intense cardiovascular workout in order to simulate tournament conditions. We typically begin with a Beep test and then move on to a range of core\, leg and arm exercises\, pad work and sparring.
URL:https://www.swmartialarts.com/event/tournament-training-gryphon-2019-12-27/
LOCATION:Gryphon Leisure Centre\, Bristol Road\, Sherborne\, DT9 4EQ
CATEGORIES:Kickboxing,Taekwondo,Tournament Training
END:VEVENT
BEGIN:VEVENT
DTSTART;TZID=Europe/London:20191105T190000
DTEND;TZID=Europe/London:20191105T200000
DTSTAMP:20260421T175338
CREATED:20180901T204340Z
LAST-MODIFIED:20191120T100830Z
UID:24853-1572980400-1572984000@www.swmartialarts.com
SUMMARY:Tournament Training\, Huish Primary School (Tuesday)
DESCRIPTION:Tournament Training\, Huish Primary School (Tuesday)
URL:https://www.swmartialarts.com/event/tournament-training-huish-2019-11-05/
LOCATION:Huish Primary School\, Carisbrooke Gardens\, Yeovil\, BA20 1AY
CATEGORIES:Kickboxing,Taekwondo,Tournament Training
END:VEVENT
BEGIN:VEVENT
DTSTART;TZID=Europe/London:20190702T180000
DTEND;TZID=Europe/London:20190702T190000
DTSTAMP:20260421T175338
CREATED:20180901T204340Z
LAST-MODIFIED:20190606T203523Z
UID:24084-1562090400-1562094000@www.swmartialarts.com
SUMMARY:Taekwondo Pre-Grading\, Huish Primary School (Tuesday)
DESCRIPTION:  \nTaekwondo Pre-Grading\, Huish Primary School (Tuesday)
URL:https://www.swmartialarts.com/event/tournament-training-huish-2019-07-02/
LOCATION:Huish Primary School\, Carisbrooke Gardens\, Yeovil\, BA20 1AY
CATEGORIES:Grading,Taekwondo,Tournament Training
END:VEVENT
BEGIN:VEVENT
DTSTART;TZID=Europe/London:20190402T190000
DTEND;TZID=Europe/London:20190402T203000
DTSTAMP:20260421T175338
CREATED:20180901T204340Z
LAST-MODIFIED:20190330T112759Z
UID:17062-1554231600-1554237000@www.swmartialarts.com
SUMMARY:Tournament Training\, Huish Primary School (Tuesday) (CANCELLED\, NO HALL AVAILABLE)
DESCRIPTION:Tournament Training\, Huish Primary School (Tuesday)
URL:https://www.swmartialarts.com/event/tournament-training-huish-2019-04-02/
LOCATION:Huish Primary School\, Carisbrooke Gardens\, Yeovil\, BA20 1AY
CATEGORIES:Kickboxing,Taekwondo,Tournament Training
END:VEVENT
BEGIN:VEVENT
DTSTART;TZID=Europe/London:20180928T183000
DTEND;TZID=Europe/London:20180928T200000
DTSTAMP:20260421T175338
CREATED:20180901T205345Z
LAST-MODIFIED:20191120T101101Z
UID:15033-1538159400-1538164800@www.swmartialarts.com
SUMMARY:Tournament Training\, Gryphon Leisure Centre (Friday)
DESCRIPTION:On the last Friday of each month\, we have “Tournament Training”. Tournament training is open to participants in both Kickboxing and Taekwondo and is designed to give you an intense cardiovascular workout in order to simulate tournament conditions. We typically begin with a Beep test and then move on to a range of core\, leg and arm exercises\, pad work and sparring.
URL:https://www.swmartialarts.com/event/tournament-training-gryphon/
LOCATION:Gryphon Leisure Centre\, Bristol Road\, Sherborne\, DT9 4EQ
CATEGORIES:Kickboxing,Taekwondo,Tournament Training
END:VEVENT
BEGIN:VEVENT
DTSTART;TZID=Europe/London:20180904T190000
DTEND;TZID=Europe/London:20180904T203000
DTSTAMP:20260421T175338
CREATED:20180901T204340Z
LAST-MODIFIED:20190901T211137Z
UID:14991-1536087600-1536093000@www.swmartialarts.com
SUMMARY:Tournament Training\, Huish Primary School (Tuesday)
DESCRIPTION:Tournament Training\, Huish Primary School (Tuesday)
URL:https://www.swmartialarts.com/event/tournament-training-huish/
LOCATION:Huish Primary School\, Carisbrooke Gardens\, Yeovil\, BA20 1AY
CATEGORIES:Kickboxing,Taekwondo,Tournament Training
END:VEVENT
END:VCALENDAR