BEGIN:VCALENDAR
VERSION:2.0
PRODID:-//South West Martial Arts - ECPv6.15.17.1//NONSGML v1.0//EN
CALSCALE:GREGORIAN
METHOD:PUBLISH
X-WR-CALNAME:South West Martial Arts
X-ORIGINAL-URL:https://www.swmartialarts.com
X-WR-CALDESC:Events for South West Martial Arts
REFRESH-INTERVAL;VALUE=DURATION:PT1H
X-Robots-Tag:noindex
X-PUBLISHED-TTL:PT1H
BEGIN:VTIMEZONE
TZID:Europe/London
BEGIN:DAYLIGHT
TZOFFSETFROM:+0000
TZOFFSETTO:+0100
TZNAME:BST
DTSTART:20170326T010000
END:DAYLIGHT
BEGIN:STANDARD
TZOFFSETFROM:+0100
TZOFFSETTO:+0000
TZNAME:GMT
DTSTART:20171029T010000
END:STANDARD
BEGIN:DAYLIGHT
TZOFFSETFROM:+0000
TZOFFSETTO:+0100
TZNAME:BST
DTSTART:20180325T010000
END:DAYLIGHT
BEGIN:STANDARD
TZOFFSETFROM:+0100
TZOFFSETTO:+0000
TZNAME:GMT
DTSTART:20181028T010000
END:STANDARD
BEGIN:DAYLIGHT
TZOFFSETFROM:+0000
TZOFFSETTO:+0100
TZNAME:BST
DTSTART:20190331T010000
END:DAYLIGHT
BEGIN:STANDARD
TZOFFSETFROM:+0100
TZOFFSETTO:+0000
TZNAME:GMT
DTSTART:20191027T010000
END:STANDARD
BEGIN:DAYLIGHT
TZOFFSETFROM:+0000
TZOFFSETTO:+0100
TZNAME:BST
DTSTART:20200329T010000
END:DAYLIGHT
BEGIN:STANDARD
TZOFFSETFROM:+0100
TZOFFSETTO:+0000
TZNAME:GMT
DTSTART:20201025T010000
END:STANDARD
END:VTIMEZONE
BEGIN:VEVENT
DTSTART;TZID=Europe/London:20191206T190000
DTEND;TZID=Europe/London:20191206T233000
DTSTAMP:20260421T234559
CREATED:20181104T232554Z
LAST-MODIFIED:20191026T081141Z
UID:16294-1575658800-1575675000@www.swmartialarts.com
SUMMARY:SWMA Xmas Party and Presentation Evening 2019
DESCRIPTION:It’s Time to polish your shoes\, press your suits\, dig out your ball gowns\, fix your hair and get dressed up to the nines because the social event of the year is nearly upon us.\nFor on the 6th of December we shall be hosting ….\nTHE SWMA XMAS PARTY AND PRESENTATION EVENING\nSo get ready to party the night away at our Disco\, indulge yourself at the buffet\, chance your arm on the raffle and immerse yourself in the glitz and glamour of our awards ceremony\, including the 2019 student awards and the much-anticipated competitor of the year award. And if that wasn’t enough\, you can join us in the pleasure of raising a glass to those that have recently reached the elite status of “Black Belt” during the presentation of their belts. \nYou are all welcome to join us in celebrating the end of another fantastic year here at SWMA. So whether you’re a Little Dragon\, a Taekwondo Master or a practitioner in the dark arts of Kickboxing we hope to see you there. \nVenue: West End Social Club\, Sherborne \nTimes: 7:00 pm – 11:30 pm \nTicket prices: 1-3 yrs = free\, 4-12 yrs = £5\, 13 yrs+(Adult) = £10 \nDress Code: Smart/Casual \nTickets can be bought in class up until the 29th of November\, all tickets must be paid for in cash\, please. Raffle tickets are also now available in class at a cost of £1 per strip. \nPlease note that there will be no classes on this date due to the party\, thanks! \n 
URL:https://www.swmartialarts.com/event/swma-xmas-party-and-presentation-evening-2019/
LOCATION:West End Social Club\, Littlefield\, Sherborne\, Dorset\, DT9 6AU\, United Kingdom
CATEGORIES:Kickboxing,Little Dragons,Presentation,Social,Taekwondo
END:VEVENT
BEGIN:VEVENT
DTSTART;TZID=Europe/London:20190731T120000
DTEND;TZID=Europe/London:20190804T233000
DTSTAMP:20260421T234559
CREATED:20190116T224523Z
LAST-MODIFIED:20190715T211523Z
UID:21036-1564574400-1564961400@www.swmartialarts.com
SUMMARY:Summer Camp 2019 (All Classes Cancelled)
DESCRIPTION:DRAGON SUMMER CAMP 2019\nREDLANDS SPORTS CENTRE\nWEYMOUTH\nDT3 5AW\nwww.dragonsummercamp.co.uk\nwww.facebook.com/MAsummercamp\nSummer Camp Invite 2019\nArrival\n  \n\n\n\n\n\n\n\n\nDragon summer camp is held at Redlands Sports Centre\, Weymouth\, DT3 5AW. \n​ \nArrival is from 12 noon on Thursday 1st August\, at which time you will be allocated a pitch and you can set up your tent\, which you must erect yourself. \n​ \nIf you wish to camp next to friends/fellow club members\, you will need to arrive together at the same time. We cannot ‘leave space’ for people to arrive later as we have an estimated 40-50 tents to accommodate and must have strict access gaps between rows of tents for fire-safety. \n​ \nEach day there will be 2 compulsory training sessions\, at around 7:30 am and 4 pm\, and optional training sessions early afternoon. The rest of the day is your own. The traditional uniform should be worn at the 4 pm training session and not in the morning training session. \n​ \nThere is a breakfast and dinner menu available which must be pre-ordered. If you wish to order and haven’t received a form please contact your instructor. \n​ \nWhilst packing for camp this year we have a few suggestions/reminders of what to bring;\n-Bite/Bee Sting cream \n-Sun Cream\, and even more Sun Cream! \n-Micropore tap \n-Reusable ice pack \n-Beach Wear \n-Hats \n-Towels \n-Martial Arts uniform and club T-shirts \n-Bostaff (if you have one) \n-Nunchuks (if you have some) \n-Sparring Kit \n-Camping Chairs \n-Food Supplies \n-Water \n-First Aid Supplies \n\n​ \nAll training members will be provided with a Summer Camp T-Shirt\, so please select your size when you fill out the application form. Non-training members may opt for a T-shirt at an additional cost of £10.\n​T-Shirt size: \nJuniors: S (5-6 years)\, M (7-8 years\, L (9-11 years)\, XL (12-13 years). \nAdults: S\, M\, L\, XL\, XXL. \n​ \nAll training members £70 (£80 after 31st May)\nNon-Training Members £50 (£60 after 31st May) – Please add £10 if you would like a T-shirt.\n\nTo book please visit: www.dragonsummercamp.co.uk/book-online\n​We look forward to seeing you there!\n\n\n\n\n\n\n\n\n 
URL:https://www.swmartialarts.com/event/summer-camp-2019/
LOCATION:Redlands Community Sports Hub\, Dorchester Rd\, Weymouth\, DT3 5AW\, United Kingdom
CATEGORIES:Kickboxing,Social,Summer School,Taekwondo
END:VEVENT
BEGIN:VEVENT
DTSTART;TZID=Europe/London:20190601T113000
DTEND;TZID=Europe/London:20190601T170000
DTSTAMP:20260421T234559
CREATED:20190505T120449Z
LAST-MODIFIED:20190505T175259Z
UID:24067-1559388600-1559408400@www.swmartialarts.com
SUMMARY:Spirit of Milborne Port Fete - Martial Arts Display
DESCRIPTION:It’s that time of year again!\nWe have been invited to Milborne Ports annual village fete.\nThis is a big event in the village community which raises money for air ambulance and St Margaret’s hospice but to name a few.\nWe need as many students as possible\, Taekwondo\, Little Dragons and kickboxers to take part in a demonstration. Approximate arrival time\, 11:30 am. We will run through a demonstration and start at approximately 12:00 pm.\nPlease\, could you let me know if you can help out either in class or by clicking on the poster and accept the invitation on our Facebook events page.
URL:https://www.swmartialarts.com/event/spirit-of-milborne-port-fete-martial-arts-display/
LOCATION:Milborne Port Village Hall\, Springfield Road\, Milborne Port\, DT9 5RE\, United Kingdom
CATEGORIES:Social
END:VEVENT
BEGIN:VEVENT
DTSTART;TZID=Europe/London:20190414T110000
DTEND;TZID=Europe/London:20190414T120000
DTSTAMP:20260421T234559
CREATED:20190402T223717Z
LAST-MODIFIED:20190402T223731Z
UID:23628-1555239600-1555243200@www.swmartialarts.com
SUMMARY:SWMA EASTER EGG HUNT
DESCRIPTION:
URL:https://www.swmartialarts.com/event/swma-easter-egg-hunt/
LOCATION:Huish Primary School\, Carisbrooke Gardens\, Yeovil\, BA20 1AY
CATEGORIES:Social
END:VEVENT
BEGIN:VEVENT
DTSTART;TZID=Europe/London:20181111T140000
DTEND;TZID=Europe/London:20181111T170000
DTSTAMP:20260421T234600
CREATED:20180908T163713Z
LAST-MODIFIED:20181105T195001Z
UID:15731-1541944800-1541955600@www.swmartialarts.com
SUMMARY:Aspire Martial Arts Sparathon
DESCRIPTION:Aspire Martial Arts is holding a Sparathon on November 11th from 2-5pm at Five Rivers Leisure Centre\, Salisbury\, SP1 3NR In order to raise money for Alabaré Homes for Veterans.\nEntry is £10 per participant\nThere will be 100 rounds of sparing\, each round will last for 1 minute\, you can do as many or as few rounds as you wish. It is open to all students of all age groups\, Little Dragons can take part in 100 rounds of fun pad work. Parents can join in with the pad work if they wish to help out. \nFAQS\n\nI don’t have sparring equipment\, can I take part? All students can take part with or without sparring equipment.\nI have never done this before\, can I take part? If you have never done this before you can still take part.  When people spar against you\, they won’t be able to make contact if you don’t have sparring kit on.\nWhat is full sparring kit? Full sparring kit includes head and mouth guard; groin guard (males); gloves; shin and feet protection.\nWhat happens if I spar against an experienced competitor? An experienced competitor will pass their tips on to you to help you improve your sparring.\nWill there be breaks? There will be short breaks.\nHow do I sign up? Complete the slip below and hand to your instructor with the entry fee.  (Cash only).\n\nSIGN UP: Download the application form and hand it into your instructor along with your entry fee.
URL:https://www.swmartialarts.com/event/aspire-martial-arts-sparathon/
LOCATION:Five Rivers Leisure Centre\, Five Rivers Leisure Centre\, Saisbury\, SP1 3NR\, United Kingdom
CATEGORIES:Competition,Kickboxing,Social,Taekwondo
END:VEVENT
BEGIN:VEVENT
DTSTART;TZID=Europe/London:20181031T173000
DTEND;TZID=Europe/London:20181031T181500
DTSTAMP:20260421T234600
CREATED:20181013T165959Z
LAST-MODIFIED:20181013T165959Z
UID:16052-1541007000-1541009700@www.swmartialarts.com
SUMMARY:SWMA Halloween Party
DESCRIPTION:SWMA Halloween Party – Fancy Dress – Bring a friend
URL:https://www.swmartialarts.com/event/swma-halloween-party/
LOCATION:Gryphon Leisure Centre\, Bristol Road\, Sherborne\, DT9 4EQ
CATEGORIES:Social
END:VEVENT
END:VCALENDAR