BEGIN:VCALENDAR
VERSION:2.0
PRODID:-//South West Martial Arts - ECPv6.15.17.1//NONSGML v1.0//EN
CALSCALE:GREGORIAN
METHOD:PUBLISH
X-ORIGINAL-URL:https://www.swmartialarts.com
X-WR-CALDESC:Events for South West Martial Arts
REFRESH-INTERVAL;VALUE=DURATION:PT1H
X-Robots-Tag:noindex
X-PUBLISHED-TTL:PT1H
BEGIN:VTIMEZONE
TZID:Europe/London
BEGIN:DAYLIGHT
TZOFFSETFROM:+0000
TZOFFSETTO:+0100
TZNAME:BST
DTSTART:20170326T010000
END:DAYLIGHT
BEGIN:STANDARD
TZOFFSETFROM:+0100
TZOFFSETTO:+0000
TZNAME:GMT
DTSTART:20171029T010000
END:STANDARD
BEGIN:DAYLIGHT
TZOFFSETFROM:+0000
TZOFFSETTO:+0100
TZNAME:BST
DTSTART:20180325T010000
END:DAYLIGHT
BEGIN:STANDARD
TZOFFSETFROM:+0100
TZOFFSETTO:+0000
TZNAME:GMT
DTSTART:20181028T010000
END:STANDARD
BEGIN:DAYLIGHT
TZOFFSETFROM:+0000
TZOFFSETTO:+0100
TZNAME:BST
DTSTART:20190331T010000
END:DAYLIGHT
BEGIN:STANDARD
TZOFFSETFROM:+0100
TZOFFSETTO:+0000
TZNAME:GMT
DTSTART:20191027T010000
END:STANDARD
BEGIN:DAYLIGHT
TZOFFSETFROM:+0000
TZOFFSETTO:+0100
TZNAME:BST
DTSTART:20200329T010000
END:DAYLIGHT
BEGIN:STANDARD
TZOFFSETFROM:+0100
TZOFFSETTO:+0000
TZNAME:GMT
DTSTART:20201025T010000
END:STANDARD
END:VTIMEZONE
BEGIN:VEVENT
DTSTART;TZID=Europe/London:20190511T123000
DTEND;TZID=Europe/London:20190511T173000
DTSTAMP:20260422T025723
CREATED:20190417T211341Z
LAST-MODIFIED:20190417T213458Z
UID:24039-1557577800-1557595800@www.swmartialarts.com
SUMMARY:Torbay Taekwondo Seminar
DESCRIPTION:Invite Torbay Seminar day 2019
URL:https://www.swmartialarts.com/event/torbay-taekwondo-seminar/
LOCATION:Torbay Leisure Centre\, Penwill way\, Paignton\, TQ4 5JR\, United Kingdom
CATEGORIES:Seminar
END:VEVENT
BEGIN:VEVENT
DTSTART;TZID=Europe/London:20181208T100000
DTEND;TZID=Europe/London:20181208T160000
DTSTAMP:20260422T025723
CREATED:20181107T230044Z
LAST-MODIFIED:20181108T213839Z
UID:16381-1544263200-1544284800@www.swmartialarts.com
SUMMARY:Grand Master Nicholls Seminar & Black Belt Grading
DESCRIPTION:On the 8th of December SCMA in Plymouth will be hosting Grand Master Nicholls for a Taekwondo seminar and Black Belt grading. These events are always a great success and are a great learning experience for all involved. We hope to see you there! 
URL:https://www.swmartialarts.com/event/grand-master-nicholls-seminar-black-belt-grading/
LOCATION:Coombe Dean School\, Charnhill Way\, Plymouth\, PL9 8ES\, United Kingdom
CATEGORIES:Grading,Seminar,Taekwondo
END:VEVENT
BEGIN:VEVENT
DTSTART;VALUE=DATE:20181124
DTEND;VALUE=DATE:20181125
DTSTAMP:20260422T025723
CREATED:20181103T110007Z
LAST-MODIFIED:20181103T110737Z
UID:16290-1543017600-1543103999@www.swmartialarts.com
SUMMARY:UK ITF TRAINING DAY AND AWARDS EVENING 2018
DESCRIPTION:UK ITF Training Day and Awards Evening 2018\nWith Grand Master Nicholls
URL:https://www.swmartialarts.com/event/uk-itf-training-day-and-awards-evening-2018/
LOCATION:Heathrow/Windsor Marriott Hotel\, Slough\, SL3 8PT\, United Kingdom
CATEGORIES:Seminar,Taekwondo
END:VEVENT
END:VCALENDAR