BEGIN:VCALENDAR
VERSION:2.0
PRODID:-//South West Martial Arts - ECPv6.15.17.1//NONSGML v1.0//EN
CALSCALE:GREGORIAN
METHOD:PUBLISH
X-ORIGINAL-URL:https://www.swmartialarts.com
X-WR-CALDESC:Events for South West Martial Arts
REFRESH-INTERVAL;VALUE=DURATION:PT1H
X-Robots-Tag:noindex
X-PUBLISHED-TTL:PT1H
BEGIN:VTIMEZONE
TZID:Europe/London
BEGIN:DAYLIGHT
TZOFFSETFROM:+0000
TZOFFSETTO:+0100
TZNAME:BST
DTSTART:20170326T010000
END:DAYLIGHT
BEGIN:STANDARD
TZOFFSETFROM:+0100
TZOFFSETTO:+0000
TZNAME:GMT
DTSTART:20171029T010000
END:STANDARD
BEGIN:DAYLIGHT
TZOFFSETFROM:+0000
TZOFFSETTO:+0100
TZNAME:BST
DTSTART:20180325T010000
END:DAYLIGHT
BEGIN:STANDARD
TZOFFSETFROM:+0100
TZOFFSETTO:+0000
TZNAME:GMT
DTSTART:20181028T010000
END:STANDARD
BEGIN:DAYLIGHT
TZOFFSETFROM:+0000
TZOFFSETTO:+0100
TZNAME:BST
DTSTART:20190331T010000
END:DAYLIGHT
BEGIN:STANDARD
TZOFFSETFROM:+0100
TZOFFSETTO:+0000
TZNAME:GMT
DTSTART:20191027T010000
END:STANDARD
BEGIN:DAYLIGHT
TZOFFSETFROM:+0000
TZOFFSETTO:+0100
TZNAME:BST
DTSTART:20200329T010000
END:DAYLIGHT
BEGIN:STANDARD
TZOFFSETFROM:+0100
TZOFFSETTO:+0000
TZNAME:GMT
DTSTART:20201025T010000
END:STANDARD
END:VTIMEZONE
BEGIN:VEVENT
DTSTART;VALUE=DATE:20191006
DTEND;VALUE=DATE:20191007
DTSTAMP:20260421T180432
CREATED:20190505T175015Z
LAST-MODIFIED:20190505T175106Z
UID:24077-1570320000-1570406399@www.swmartialarts.com
SUMMARY:Black Belt Grading - Taekwondo & Kickboxing - Sherborne
DESCRIPTION:Black Belt Grading – Taekwondo & Kickboxing – Sherborne
URL:https://www.swmartialarts.com/event/black-belt-grading-taekwondo-kickboxing-sherborne/
LOCATION:Gryphon Leisure Centre\, Bristol Road\, Sherborne\, DT9 4EQ
CATEGORIES:Grading,Kickboxing,Taekwondo
END:VEVENT
BEGIN:VEVENT
DTSTART;TZID=Europe/London:20191004T180000
DTEND;TZID=Europe/London:20191004T190000
DTSTAMP:20260421T180432
CREATED:20180901T204709Z
LAST-MODIFIED:20190901T214757Z
UID:24828-1570212000-1570215600@www.swmartialarts.com
SUMMARY:Kickboxing Grading\, Gryphon Leisure Centre (Friday)
DESCRIPTION:Kickboxing Grading\, Gryphon Leisure Centre (Friday)
URL:https://www.swmartialarts.com/event/kickboxing-gryphon-2019-10-04/
LOCATION:Gryphon Leisure Centre\, Bristol Road\, Sherborne\, DT9 4EQ
CATEGORIES:Kickboxing
END:VEVENT
BEGIN:VEVENT
DTSTART;TZID=Europe/London:20190925T184500
DTEND;TZID=Europe/London:20190925T193000
DTSTAMP:20260421T180432
CREATED:20180901T203309Z
LAST-MODIFIED:20190901T213438Z
UID:24703-1569437100-1569439800@www.swmartialarts.com
SUMMARY:Kickboxing Pre-Grading\, Gryphon Leisure Centre (Wednesday)
DESCRIPTION:Kickboxing Pre-Grading\, Gryphon Leisure Centre (Wednesday)
URL:https://www.swmartialarts.com/event/kb-gryphon-3-2019-09-25/
LOCATION:Gryphon Leisure Centre\, Bristol Road\, Sherborne\, DT9 4EQ
CATEGORIES:Kickboxing
END:VEVENT
BEGIN:VEVENT
DTSTART;TZID=Europe/London:20190924T190000
DTEND;TZID=Europe/London:20190924T200000
DTSTAMP:20260421T180432
CREATED:20180124T073147Z
LAST-MODIFIED:20190901T213835Z
UID:24714-1569351600-1569355200@www.swmartialarts.com
SUMMARY:Kickboxing Pre-Grading\, Huish Primary School (Tuesday)
DESCRIPTION:Kickboxing Pre-Grading\, Huish Primary School (Tuesday)
URL:https://www.swmartialarts.com/event/kb-stanchester-2019-04-16-2019-09-24/
LOCATION:Huish Primary School\, Carisbrooke Gardens\, Yeovil\, BA20 1AY
CATEGORIES:Kickboxing
END:VEVENT
BEGIN:VEVENT
DTSTART;TZID=Europe/London:20190923T180000
DTEND;TZID=Europe/London:20190923T184500
DTSTAMP:20260421T180432
CREATED:20181213T224556Z
LAST-MODIFIED:20210619T075948Z
UID:24613-1569261600-1569264300@www.swmartialarts.com
SUMMARY:Junior Kickboxing\, Gryphon Leisure Centre (Monday)
DESCRIPTION:Junior Kickboxing\, Gryphon Leisure Centre (Monday) for ages 7 -13
URL:https://www.swmartialarts.com/event/junior-kickboxing-gryphon-leisure-centre-monday-2019-09-23/
LOCATION:Gryphon Leisure Centre\, Bristol Road\, Sherborne\, DT9 4EQ
CATEGORIES:Kickboxing
END:VEVENT
BEGIN:VEVENT
DTSTART;TZID=Europe/London:20190826T180000
DTEND;TZID=Europe/London:20190826T190000
DTSTAMP:20260421T180432
CREATED:20181213T224556Z
LAST-MODIFIED:20190715T215655Z
UID:24164-1566842400-1566846000@www.swmartialarts.com
SUMMARY:Junior Kickboxing\, Closed Bank Holiday (Monday)
DESCRIPTION:Junior Kickboxing\, Closed Bank Holiday (Monday)
URL:https://www.swmartialarts.com/event/junior-kickboxing-gryphon-leisure-centre-monday-2019-08-26/
LOCATION:Gryphon Leisure Centre\, Bristol Road\, Sherborne\, DT9 4EQ
CATEGORIES:Kickboxing
END:VEVENT
BEGIN:VEVENT
DTSTART;TZID=Europe/London:20190731T120000
DTEND;TZID=Europe/London:20190804T233000
DTSTAMP:20260421T180432
CREATED:20190116T224523Z
LAST-MODIFIED:20190715T211523Z
UID:21036-1564574400-1564961400@www.swmartialarts.com
SUMMARY:Summer Camp 2019 (All Classes Cancelled)
DESCRIPTION:DRAGON SUMMER CAMP 2019\nREDLANDS SPORTS CENTRE\nWEYMOUTH\nDT3 5AW\nwww.dragonsummercamp.co.uk\nwww.facebook.com/MAsummercamp\nSummer Camp Invite 2019\nArrival\n  \n\n\n\n\n\n\n\n\nDragon summer camp is held at Redlands Sports Centre\, Weymouth\, DT3 5AW. \n​ \nArrival is from 12 noon on Thursday 1st August\, at which time you will be allocated a pitch and you can set up your tent\, which you must erect yourself. \n​ \nIf you wish to camp next to friends/fellow club members\, you will need to arrive together at the same time. We cannot ‘leave space’ for people to arrive later as we have an estimated 40-50 tents to accommodate and must have strict access gaps between rows of tents for fire-safety. \n​ \nEach day there will be 2 compulsory training sessions\, at around 7:30 am and 4 pm\, and optional training sessions early afternoon. The rest of the day is your own. The traditional uniform should be worn at the 4 pm training session and not in the morning training session. \n​ \nThere is a breakfast and dinner menu available which must be pre-ordered. If you wish to order and haven’t received a form please contact your instructor. \n​ \nWhilst packing for camp this year we have a few suggestions/reminders of what to bring;\n-Bite/Bee Sting cream \n-Sun Cream\, and even more Sun Cream! \n-Micropore tap \n-Reusable ice pack \n-Beach Wear \n-Hats \n-Towels \n-Martial Arts uniform and club T-shirts \n-Bostaff (if you have one) \n-Nunchuks (if you have some) \n-Sparring Kit \n-Camping Chairs \n-Food Supplies \n-Water \n-First Aid Supplies \n\n​ \nAll training members will be provided with a Summer Camp T-Shirt\, so please select your size when you fill out the application form. Non-training members may opt for a T-shirt at an additional cost of £10.\n​T-Shirt size: \nJuniors: S (5-6 years)\, M (7-8 years\, L (9-11 years)\, XL (12-13 years). \nAdults: S\, M\, L\, XL\, XXL. \n​ \nAll training members £70 (£80 after 31st May)\nNon-Training Members £50 (£60 after 31st May) – Please add £10 if you would like a T-shirt.\n\nTo book please visit: www.dragonsummercamp.co.uk/book-online\n​We look forward to seeing you there!\n\n\n\n\n\n\n\n\n 
URL:https://www.swmartialarts.com/event/summer-camp-2019/
LOCATION:Redlands Community Sports Hub\, Dorchester Rd\, Weymouth\, DT3 5AW\, United Kingdom
CATEGORIES:Kickboxing,Social,Summer School,Taekwondo
END:VEVENT
BEGIN:VEVENT
DTSTART;TZID=Europe/London:20190712T183000
DTEND;TZID=Europe/London:20190712T193000
DTSTAMP:20260421T180432
CREATED:20180901T204709Z
LAST-MODIFIED:20190712T054604Z
UID:24128-1562956200-1562959800@www.swmartialarts.com
SUMMARY:Kickboxing Grading\, Gryphon Leisure Centre (Friday)
DESCRIPTION:Kickboxing Grading\, Gryphon Leisure Centre (Friday) \nPlease turn up at least 15 minutes early to warm up.
URL:https://www.swmartialarts.com/event/kickboxing-gryphon-2019-07-12/
LOCATION:Gryphon Leisure Centre\, Bristol Road\, Sherborne\, DT9 4EQ
CATEGORIES:Kickboxing
END:VEVENT
BEGIN:VEVENT
DTSTART;TZID=Europe/London:20190703T184500
DTEND;TZID=Europe/London:20190703T193000
DTSTAMP:20260421T180432
CREATED:20180901T203309Z
LAST-MODIFIED:20190606T204847Z
UID:24356-1562179500-1562182200@www.swmartialarts.com
SUMMARY:Kickboxing Pre-Grading\, Gryphon Leisure Centre (Wednesday)
DESCRIPTION:Kickboxing Pre-Grading\, Gryphon Leisure Centre (Wednesday)
URL:https://www.swmartialarts.com/event/kb-gryphon-3-2019-07-03/
LOCATION:Gryphon Leisure Centre\, Bristol Road\, Sherborne\, DT9 4EQ
CATEGORIES:Kickboxing
END:VEVENT
BEGIN:VEVENT
DTSTART;TZID=Europe/London:20190702T190000
DTEND;TZID=Europe/London:20190702T200000
DTSTAMP:20260421T180432
CREATED:20190606T203732Z
LAST-MODIFIED:20190606T203732Z
UID:24417-1562094000-1562097600@www.swmartialarts.com
SUMMARY:Kickboxing Pre-Grading\, Huish Primary School (Tuesday)
DESCRIPTION:Kickboxing Pre-Grading\, Huish Primary School (Tuesday)
URL:https://www.swmartialarts.com/event/kickboxing-pre-grading-huish-primary-school-tuesday/
LOCATION:Huish Primary School\, Carisbrooke Gardens\, Yeovil\, BA20 1AY
CATEGORIES:Grading,Kickboxing
END:VEVENT
BEGIN:VEVENT
DTSTART;TZID=Europe/London:20190701T180000
DTEND;TZID=Europe/London:20190701T183000
DTSTAMP:20260421T180432
CREATED:20181213T224556Z
LAST-MODIFIED:20190625T164953Z
UID:23798-1562004000-1562005800@www.swmartialarts.com
SUMMARY:Junior Kickboxing (Pre -Grading)\, Gryphon Leisure Centre (Monday)
DESCRIPTION:Junior Kickboxing (Pre -Grading)\, Gryphon Leisure Centre (Monday)
URL:https://www.swmartialarts.com/event/junior-kickboxing-gryphon-leisure-centre-monday-2019-07-01/
LOCATION:Gryphon Leisure Centre\, Bristol Road\, Sherborne\, DT9 4EQ
CATEGORIES:Kickboxing
END:VEVENT
BEGIN:VEVENT
DTSTART;TZID=Europe/London:20190527T180000
DTEND;TZID=Europe/London:20190527T190000
DTSTAMP:20260421T180432
CREATED:20181213T224556Z
LAST-MODIFIED:20190523T215230Z
UID:23793-1558980000-1558983600@www.swmartialarts.com
SUMMARY:Junior Kickboxing\, (Class Cancelled - Bank Holiday Monday)
DESCRIPTION:Junior Kickboxing\, Gryphon Leisure Centre (Monday)
URL:https://www.swmartialarts.com/event/junior-kickboxing-gryphon-leisure-centre-monday-2019-05-27/
LOCATION:Gryphon Leisure Centre\, Bristol Road\, Sherborne\, DT9 4EQ
CATEGORIES:Kickboxing
END:VEVENT
BEGIN:VEVENT
DTSTART;VALUE=DATE:20190506
DTEND;VALUE=DATE:20190507
DTSTAMP:20260421T180432
CREATED:20181213T224556Z
LAST-MODIFIED:20190503T144620Z
UID:23790-1557100800-1557187199@www.swmartialarts.com
SUMMARY:Closed - Bank Holiday Monday
DESCRIPTION:Closed – Bank Holiday Monday
URL:https://www.swmartialarts.com/event/junior-kickboxing-gryphon-leisure-centre-monday-2019-05-06/
LOCATION:Gryphon Leisure Centre\, Bristol Road\, Sherborne\, DT9 4EQ
CATEGORIES:Kickboxing
END:VEVENT
BEGIN:VEVENT
DTSTART;VALUE=DATE:20190406
DTEND;VALUE=DATE:20190407
DTSTAMP:20260421T180432
CREATED:20190116T222814Z
LAST-MODIFIED:20190116T222948Z
UID:21007-1554508800-1554595199@www.swmartialarts.com
SUMMARY:Taekwondo And Kickboxing Black Belt Grading - Cardiff
DESCRIPTION:Taekwondo And Kickboxing Black Belt Grading – Cardiff
URL:https://www.swmartialarts.com/event/taekwondo-and-kickboxing-black-belt-grading-cardiff/
LOCATION:Cardiff City House of Sport\, CF11 8AW
CATEGORIES:Grading,Kickboxing,Taekwondo
END:VEVENT
BEGIN:VEVENT
DTSTART;TZID=Europe/London:20190402T190000
DTEND;TZID=Europe/London:20190402T203000
DTSTAMP:20260421T180432
CREATED:20180901T204340Z
LAST-MODIFIED:20190330T112759Z
UID:17062-1554231600-1554237000@www.swmartialarts.com
SUMMARY:Tournament Training\, Huish Primary School (Tuesday) (CANCELLED\, NO HALL AVAILABLE)
DESCRIPTION:Tournament Training\, Huish Primary School (Tuesday)
URL:https://www.swmartialarts.com/event/tournament-training-huish-2019-04-02/
LOCATION:Huish Primary School\, Carisbrooke Gardens\, Yeovil\, BA20 1AY
CATEGORIES:Kickboxing,Taekwondo,Tournament Training
END:VEVENT
BEGIN:VEVENT
DTSTART;TZID=Europe/London:20190125T183000
DTEND;TZID=Europe/London:20190125T193000
DTSTAMP:20260421T180432
CREATED:20190118T223702Z
LAST-MODIFIED:20190118T224106Z
UID:21602-1548441000-1548444600@www.swmartialarts.com
SUMMARY:Kickboxing Grading (Gryphon Leisure Centre)
DESCRIPTION:Kickboxing Grading (Gryphon Leisure Centre) \nPlease arrive 15 minutes early to allow yourself time to warm up.
URL:https://www.swmartialarts.com/event/kickboxing-grading-gryphon-leisure-centre/
LOCATION:Gryphon Leisure Centre\, Bristol Road\, Sherborne\, DT9 4EQ
CATEGORIES:Grading,Kickboxing
END:VEVENT
BEGIN:VEVENT
DTSTART;TZID=Europe/London:20190116T184500
DTEND;TZID=Europe/London:20190116T193000
DTSTAMP:20260421T180432
CREATED:20181219T224740Z
LAST-MODIFIED:20181219T225642Z
UID:17022-1547664300-1547667000@www.swmartialarts.com
SUMMARY:Kickboxing Pre Grading\, Gryphon (Wednesday)
DESCRIPTION:Kickboxing Pre Grading\, Gryphon (Wednesday)
URL:https://www.swmartialarts.com/event/kickboxing-pre-grading-gryphon-wednesday/
LOCATION:Gryphon Leisure Centre\, Bristol Road\, Sherborne\, DT9 4EQ
CATEGORIES:Grading,Kickboxing
END:VEVENT
BEGIN:VEVENT
DTSTART;TZID=Europe/London:20190115T190000
DTEND;TZID=Europe/London:20190115T200000
DTSTAMP:20260421T180432
CREATED:20181219T223727Z
LAST-MODIFIED:20181219T225950Z
UID:17013-1547578800-1547582400@www.swmartialarts.com
SUMMARY:Kickboxing Pre Grading\, Huish (Tuesday)
DESCRIPTION:Kickboxing Pre Grading\, Huish (Tuesday)
URL:https://www.swmartialarts.com/event/kickboxing-pre-grading-huish-tuesday/
LOCATION:Huish Primary School\, Carisbrooke Gardens\, Yeovil\, BA20 1AY
CATEGORIES:Grading,Kickboxing
END:VEVENT
BEGIN:VEVENT
DTSTART;TZID=Europe/London:20190107T180000
DTEND;TZID=Europe/London:20190107T190000
DTSTAMP:20260421T180432
CREATED:20181213T224556Z
LAST-MODIFIED:20190901T154636Z
UID:16856-1546884000-1546887600@www.swmartialarts.com
SUMMARY:Junior Kickboxing\, Gryphon Leisure Centre (Monday)
DESCRIPTION:Junior Kickboxing\, Gryphon Leisure Centre (Monday) for ages 7 -13
URL:https://www.swmartialarts.com/event/junior-kickboxing-gryphon-leisure-centre-monday/
LOCATION:Gryphon Leisure Centre\, Bristol Road\, Sherborne\, DT9 4EQ
CATEGORIES:Kickboxing
END:VEVENT
BEGIN:VEVENT
DTSTART;TZID=Europe/London:20181221T180000
DTEND;TZID=Europe/London:20181221T190000
DTSTAMP:20260421T180432
CREATED:20181213T225344Z
LAST-MODIFIED:20181220T180516Z
UID:16867-1545415200-1545418800@www.swmartialarts.com
SUMMARY:End of year Blow Out (Mixed Class: Little Dragons\, Taekwondo and Kickboxing)\, Gryphon Leisure Centre
DESCRIPTION:A fun class to celebrate the end of the year that is open to all students of every discipline. So whether you’re a little Dragon\, a practitioner of Taekwondo or a Kickboxer come along and blow off some steam before we head off for the Xmas break.
URL:https://www.swmartialarts.com/event/end-of-year-blow-out-mixed-class-little-dragons-taekwondo-and-kickboxing-gryphon-leisure-centre/
LOCATION:Gryphon Leisure Centre\, Bristol Road\, Sherborne\, DT9 4EQ
CATEGORIES:Kickboxing,Little Dragons,Taekwondo
END:VEVENT
BEGIN:VEVENT
DTSTART;TZID=Europe/London:20181130T190000
DTEND;TZID=Europe/London:20181130T200000
DTSTAMP:20260421T180432
CREATED:20181118T214742Z
LAST-MODIFIED:20181118T214742Z
UID:16542-1543604400-1543608000@www.swmartialarts.com
SUMMARY:Kickboxing\, Gryphon Leisure Centre (Friday)
DESCRIPTION:Kickboxing\, Gryphon Leisure Centre (Friday)
URL:https://www.swmartialarts.com/event/kickboxing-gryphon-leisure-centre-friday/
LOCATION:Gryphon Leisure Centre\, Bristol Road\, Sherborne\, DT9 4EQ
CATEGORIES:Kickboxing
END:VEVENT
BEGIN:VEVENT
DTSTART;TZID=Europe/London:20181111T140000
DTEND;TZID=Europe/London:20181111T170000
DTSTAMP:20260421T180432
CREATED:20180908T163713Z
LAST-MODIFIED:20181105T195001Z
UID:15731-1541944800-1541955600@www.swmartialarts.com
SUMMARY:Aspire Martial Arts Sparathon
DESCRIPTION:Aspire Martial Arts is holding a Sparathon on November 11th from 2-5pm at Five Rivers Leisure Centre\, Salisbury\, SP1 3NR In order to raise money for Alabaré Homes for Veterans.\nEntry is £10 per participant\nThere will be 100 rounds of sparing\, each round will last for 1 minute\, you can do as many or as few rounds as you wish. It is open to all students of all age groups\, Little Dragons can take part in 100 rounds of fun pad work. Parents can join in with the pad work if they wish to help out. \nFAQS\n\nI don’t have sparring equipment\, can I take part? All students can take part with or without sparring equipment.\nI have never done this before\, can I take part? If you have never done this before you can still take part.  When people spar against you\, they won’t be able to make contact if you don’t have sparring kit on.\nWhat is full sparring kit? Full sparring kit includes head and mouth guard; groin guard (males); gloves; shin and feet protection.\nWhat happens if I spar against an experienced competitor? An experienced competitor will pass their tips on to you to help you improve your sparring.\nWill there be breaks? There will be short breaks.\nHow do I sign up? Complete the slip below and hand to your instructor with the entry fee.  (Cash only).\n\nSIGN UP: Download the application form and hand it into your instructor along with your entry fee.
URL:https://www.swmartialarts.com/event/aspire-martial-arts-sparathon/
LOCATION:Five Rivers Leisure Centre\, Five Rivers Leisure Centre\, Saisbury\, SP1 3NR\, United Kingdom
CATEGORIES:Competition,Kickboxing,Social,Taekwondo
END:VEVENT
BEGIN:VEVENT
DTSTART;TZID=Europe/London:20181005T173000
DTEND;TZID=Europe/London:20181005T190000
DTSTAMP:20260421T180432
CREATED:20180903T205228Z
LAST-MODIFIED:20180904T222649Z
UID:15102-1538760600-1538766000@www.swmartialarts.com
SUMMARY:Taekwondo & Kickboxing Coloured Belt Gradings\, Gryphon
DESCRIPTION:Taekwondo & Kickboxing Coloured Belt Gradings\, Gryphon
URL:https://www.swmartialarts.com/event/taekwondo-kickboxing-coloured-belt-gradings-gryphon/
LOCATION:Gryphon Leisure Centre\, Bristol Road\, Sherborne\, DT9 4EQ
CATEGORIES:Grading,Kickboxing,Taekwondo
END:VEVENT
BEGIN:VEVENT
DTSTART;TZID=Europe/London:20180928T183000
DTEND;TZID=Europe/London:20180928T200000
DTSTAMP:20260421T180432
CREATED:20180901T205345Z
LAST-MODIFIED:20191120T101101Z
UID:15033-1538159400-1538164800@www.swmartialarts.com
SUMMARY:Tournament Training\, Gryphon Leisure Centre (Friday)
DESCRIPTION:On the last Friday of each month\, we have “Tournament Training”. Tournament training is open to participants in both Kickboxing and Taekwondo and is designed to give you an intense cardiovascular workout in order to simulate tournament conditions. We typically begin with a Beep test and then move on to a range of core\, leg and arm exercises\, pad work and sparring.
URL:https://www.swmartialarts.com/event/tournament-training-gryphon/
LOCATION:Gryphon Leisure Centre\, Bristol Road\, Sherborne\, DT9 4EQ
CATEGORIES:Kickboxing,Taekwondo,Tournament Training
END:VEVENT
BEGIN:VEVENT
DTSTART;TZID=Europe/London:20180926T184500
DTEND;TZID=Europe/London:20180926T193000
DTSTAMP:20260421T180432
CREATED:20180905T214343Z
LAST-MODIFIED:20180905T214531Z
UID:15689-1537987500-1537990200@www.swmartialarts.com
SUMMARY:Kickboxing Pre-Grading\, Gryphon Leisure Centre
DESCRIPTION:Kickboxing Pre-Grading\, Gryphon Leisure Centre
URL:https://www.swmartialarts.com/event/kickboxing-pre-grading-2/
LOCATION:Gryphon Leisure Centre\, Bristol Road\, Sherborne\, DT9 4EQ
CATEGORIES:Grading,Kickboxing
END:VEVENT
BEGIN:VEVENT
DTSTART;TZID=Europe/London:20180925T193000
DTEND;TZID=Europe/London:20180925T200000
DTSTAMP:20260421T180432
CREATED:20180904T222244Z
LAST-MODIFIED:20180905T215350Z
UID:15372-1537903800-1537905600@www.swmartialarts.com
SUMMARY:Kickboxing Pre-Grading\, Huish Primary School
DESCRIPTION:Kickboxing Pre-Grading\, Huish Primary School
URL:https://www.swmartialarts.com/event/kickboxing-pre-grading/
LOCATION:Huish Primary School\, Carisbrooke Gardens\, Yeovil\, BA20 1AY
CATEGORIES:Grading,Kickboxing
END:VEVENT
BEGIN:VEVENT
DTSTART;TZID=Europe/London:20180907T190000
DTEND;TZID=Europe/London:20180907T195500
DTSTAMP:20260421T180432
CREATED:20180901T204709Z
LAST-MODIFIED:20211009T131858Z
UID:14995-1536346800-1536350100@www.swmartialarts.com
SUMMARY:Kickboxing\, Gryphon Leisure Centre (Friday)
DESCRIPTION:Kickboxing\, Gryphon Leisure Centre (Friday)
URL:https://www.swmartialarts.com/event/kickboxing-gryphon/
LOCATION:Gryphon Leisure Centre\, Bristol Road\, Sherborne\, DT9 4EQ
CATEGORIES:Kickboxing
END:VEVENT
BEGIN:VEVENT
DTSTART;TZID=Europe/London:20180905T190000
DTEND;TZID=Europe/London:20180905T195500
DTSTAMP:20260421T180432
CREATED:20180901T203309Z
LAST-MODIFIED:20210619T083101Z
UID:14929-1536174000-1536177300@www.swmartialarts.com
SUMMARY:Kickboxing\, Gryphon Leisure Centre (Wednesday)
DESCRIPTION:Kickboxing\, Gryphon Leisure Centre (Wednesday)
URL:https://www.swmartialarts.com/event/kb-gryphon-3/
LOCATION:Gryphon Leisure Centre\, Bristol Road\, Sherborne\, DT9 4EQ
CATEGORIES:Kickboxing
END:VEVENT
BEGIN:VEVENT
DTSTART;TZID=Europe/London:20180904T190000
DTEND;TZID=Europe/London:20180904T203000
DTSTAMP:20260421T180432
CREATED:20180901T204340Z
LAST-MODIFIED:20190901T211137Z
UID:14991-1536087600-1536093000@www.swmartialarts.com
SUMMARY:Tournament Training\, Huish Primary School (Tuesday)
DESCRIPTION:Tournament Training\, Huish Primary School (Tuesday)
URL:https://www.swmartialarts.com/event/tournament-training-huish/
LOCATION:Huish Primary School\, Carisbrooke Gardens\, Yeovil\, BA20 1AY
CATEGORIES:Kickboxing,Taekwondo,Tournament Training
END:VEVENT
BEGIN:VEVENT
DTSTART;TZID=Europe/London:20180112T190000
DTEND;TZID=Europe/London:20180112T195500
DTSTAMP:20260421T180432
CREATED:20180125T080012Z
LAST-MODIFIED:20180125T080012Z
UID:14234-1515783600-1515786900@www.swmartialarts.com
SUMMARY:KB\, Gryphon
DESCRIPTION:
URL:https://www.swmartialarts.com/event/kb-gryphon-2/
LOCATION:Gryphon Leisure Centre\, Bristol Road\, Sherborne\, DT9 4EQ
CATEGORIES:Kickboxing
END:VEVENT
END:VCALENDAR