BEGIN:VCALENDAR
VERSION:2.0
PRODID:-//South West Martial Arts - ECPv6.15.17.1//NONSGML v1.0//EN
CALSCALE:GREGORIAN
METHOD:PUBLISH
X-WR-CALNAME:South West Martial Arts
X-ORIGINAL-URL:https://www.swmartialarts.com
X-WR-CALDESC:Events for South West Martial Arts
REFRESH-INTERVAL;VALUE=DURATION:PT1H
X-Robots-Tag:noindex
X-PUBLISHED-TTL:PT1H
BEGIN:VTIMEZONE
TZID:Europe/London
BEGIN:DAYLIGHT
TZOFFSETFROM:+0000
TZOFFSETTO:+0100
TZNAME:BST
DTSTART:20190331T010000
END:DAYLIGHT
BEGIN:STANDARD
TZOFFSETFROM:+0100
TZOFFSETTO:+0000
TZNAME:GMT
DTSTART:20191027T010000
END:STANDARD
BEGIN:DAYLIGHT
TZOFFSETFROM:+0000
TZOFFSETTO:+0100
TZNAME:BST
DTSTART:20200329T010000
END:DAYLIGHT
BEGIN:STANDARD
TZOFFSETFROM:+0100
TZOFFSETTO:+0000
TZNAME:GMT
DTSTART:20201025T010000
END:STANDARD
BEGIN:DAYLIGHT
TZOFFSETFROM:+0000
TZOFFSETTO:+0100
TZNAME:BST
DTSTART:20210328T010000
END:DAYLIGHT
BEGIN:STANDARD
TZOFFSETFROM:+0100
TZOFFSETTO:+0000
TZNAME:GMT
DTSTART:20211031T010000
END:STANDARD
BEGIN:DAYLIGHT
TZOFFSETFROM:+0000
TZOFFSETTO:+0100
TZNAME:BST
DTSTART:20220327T010000
END:DAYLIGHT
BEGIN:STANDARD
TZOFFSETFROM:+0100
TZOFFSETTO:+0000
TZNAME:GMT
DTSTART:20221030T010000
END:STANDARD
END:VTIMEZONE
BEGIN:VEVENT
DTSTART;TZID=Europe/London:20211203T190000
DTEND;TZID=Europe/London:20211203T195500
DTSTAMP:20260421T142247
CREATED:20180901T204709Z
LAST-MODIFIED:20211009T131919Z
UID:27385-1638558000-1638561300@www.swmartialarts.com
SUMMARY:Kickboxing\, Gryphon Leisure Centre (Friday)
DESCRIPTION:Kickboxing\, Gryphon Leisure Centre (Friday)
URL:https://www.swmartialarts.com/event/kickboxing-gryphon-2021-12-03/
LOCATION:Gryphon Leisure Centre\, Bristol Road\, Sherborne\, DT9 4EQ
CATEGORIES:Kickboxing
END:VEVENT
BEGIN:VEVENT
DTSTART;TZID=Europe/London:20211201T190000
DTEND;TZID=Europe/London:20211201T195500
DTSTAMP:20260421T142247
CREATED:20180901T203309Z
LAST-MODIFIED:20210619T083126Z
UID:27164-1638385200-1638388500@www.swmartialarts.com
SUMMARY:Kickboxing\, Gryphon Leisure Centre (Wednesday)
DESCRIPTION:Kickboxing\, Gryphon Leisure Centre (Wednesday)
URL:https://www.swmartialarts.com/event/kb-gryphon-3-2021-12-01/
LOCATION:Gryphon Leisure Centre\, Bristol Road\, Sherborne\, DT9 4EQ
CATEGORIES:Kickboxing
END:VEVENT
BEGIN:VEVENT
DTSTART;TZID=Europe/London:20211129T184500
DTEND;TZID=Europe/London:20211129T193000
DTSTAMP:20260421T142247
CREATED:20190901T154442Z
LAST-MODIFIED:20210711T141507Z
UID:26936-1638211500-1638214200@www.swmartialarts.com
SUMMARY:Adult Kickboxing\, Gryphon Leisure Centre (Monday)
DESCRIPTION:Adult Kickboxing\, Gryphon Leisure Centre (Monday) for ages 13 and above
URL:https://www.swmartialarts.com/event/adult-kickboxing-gryphon-leisure-centre-monday-2021-11-29/
LOCATION:Gryphon Leisure Centre\, Bristol Road\, Sherborne\, DT9 4EQ
CATEGORIES:Kickboxing
END:VEVENT
BEGIN:VEVENT
DTSTART;TZID=Europe/London:20211129T180000
DTEND;TZID=Europe/London:20211129T184500
DTSTAMP:20260421T142247
CREATED:20181213T224556Z
LAST-MODIFIED:20181213T224556Z
UID:26902-1638208800-1638211500@www.swmartialarts.com
SUMMARY:Junior Kickboxing\, Gryphon Leisure Centre (Monday)
DESCRIPTION:Junior Kickboxing\, Gryphon Leisure Centre (Monday) for ages 7 -13
URL:https://www.swmartialarts.com/event/junior-kickboxing-gryphon-leisure-centre-monday-2019-09-23-2021-11-29/
LOCATION:Gryphon Leisure Centre\, Bristol Road\, Sherborne\, DT9 4EQ
CATEGORIES:Kickboxing
END:VEVENT
BEGIN:VEVENT
DTSTART;TZID=Europe/London:20211124T190000
DTEND;TZID=Europe/London:20211124T195500
DTSTAMP:20260421T142247
CREATED:20180901T203309Z
LAST-MODIFIED:20210619T083125Z
UID:27163-1637780400-1637783700@www.swmartialarts.com
SUMMARY:Kickboxing\, Gryphon Leisure Centre (Wednesday)
DESCRIPTION:Kickboxing\, Gryphon Leisure Centre (Wednesday)
URL:https://www.swmartialarts.com/event/kb-gryphon-3-2021-11-24/
LOCATION:Gryphon Leisure Centre\, Bristol Road\, Sherborne\, DT9 4EQ
CATEGORIES:Kickboxing
END:VEVENT
BEGIN:VEVENT
DTSTART;TZID=Europe/London:20211122T184500
DTEND;TZID=Europe/London:20211122T193000
DTSTAMP:20260421T142247
CREATED:20190901T154442Z
LAST-MODIFIED:20210711T141507Z
UID:26935-1637606700-1637609400@www.swmartialarts.com
SUMMARY:Adult Kickboxing\, Gryphon Leisure Centre (Monday)
DESCRIPTION:Adult Kickboxing\, Gryphon Leisure Centre (Monday) for ages 13 and above
URL:https://www.swmartialarts.com/event/adult-kickboxing-gryphon-leisure-centre-monday-2021-11-22/
LOCATION:Gryphon Leisure Centre\, Bristol Road\, Sherborne\, DT9 4EQ
CATEGORIES:Kickboxing
END:VEVENT
BEGIN:VEVENT
DTSTART;TZID=Europe/London:20211122T180000
DTEND;TZID=Europe/London:20211122T184500
DTSTAMP:20260421T142247
CREATED:20181213T224556Z
LAST-MODIFIED:20181213T224556Z
UID:26901-1637604000-1637606700@www.swmartialarts.com
SUMMARY:Junior Kickboxing\, Gryphon Leisure Centre (Monday)
DESCRIPTION:Junior Kickboxing\, Gryphon Leisure Centre (Monday) for ages 7 -13
URL:https://www.swmartialarts.com/event/junior-kickboxing-gryphon-leisure-centre-monday-2019-09-23-2021-11-22/
LOCATION:Gryphon Leisure Centre\, Bristol Road\, Sherborne\, DT9 4EQ
CATEGORIES:Kickboxing
END:VEVENT
BEGIN:VEVENT
DTSTART;TZID=Europe/London:20211119T190000
DTEND;TZID=Europe/London:20211119T195500
DTSTAMP:20260421T142247
CREATED:20180901T204709Z
LAST-MODIFIED:20211009T131919Z
UID:27383-1637348400-1637351700@www.swmartialarts.com
SUMMARY:Kickboxing\, Gryphon Leisure Centre (Friday)
DESCRIPTION:Kickboxing\, Gryphon Leisure Centre (Friday)
URL:https://www.swmartialarts.com/event/kickboxing-gryphon-2021-11-19/
LOCATION:Gryphon Leisure Centre\, Bristol Road\, Sherborne\, DT9 4EQ
CATEGORIES:Kickboxing
END:VEVENT
BEGIN:VEVENT
DTSTART;TZID=Europe/London:20211117T190000
DTEND;TZID=Europe/London:20211117T195500
DTSTAMP:20260421T142247
CREATED:20180901T203309Z
LAST-MODIFIED:20210619T083125Z
UID:27162-1637175600-1637178900@www.swmartialarts.com
SUMMARY:Kickboxing\, Gryphon Leisure Centre (Wednesday)
DESCRIPTION:Kickboxing\, Gryphon Leisure Centre (Wednesday)
URL:https://www.swmartialarts.com/event/kb-gryphon-3-2021-11-17/
LOCATION:Gryphon Leisure Centre\, Bristol Road\, Sherborne\, DT9 4EQ
CATEGORIES:Kickboxing
END:VEVENT
BEGIN:VEVENT
DTSTART;TZID=Europe/London:20211115T184500
DTEND;TZID=Europe/London:20211115T193000
DTSTAMP:20260421T142247
CREATED:20190901T154442Z
LAST-MODIFIED:20210711T141507Z
UID:26934-1637001900-1637004600@www.swmartialarts.com
SUMMARY:Adult Kickboxing\, Gryphon Leisure Centre (Monday)
DESCRIPTION:Adult Kickboxing\, Gryphon Leisure Centre (Monday) for ages 13 and above
URL:https://www.swmartialarts.com/event/adult-kickboxing-gryphon-leisure-centre-monday-2021-11-15/
LOCATION:Gryphon Leisure Centre\, Bristol Road\, Sherborne\, DT9 4EQ
CATEGORIES:Kickboxing
END:VEVENT
BEGIN:VEVENT
DTSTART;TZID=Europe/London:20211115T180000
DTEND;TZID=Europe/London:20211115T184500
DTSTAMP:20260421T142247
CREATED:20181213T224556Z
LAST-MODIFIED:20181213T224556Z
UID:26900-1636999200-1637001900@www.swmartialarts.com
SUMMARY:Junior Kickboxing\, Gryphon Leisure Centre (Monday)
DESCRIPTION:Junior Kickboxing\, Gryphon Leisure Centre (Monday) for ages 7 -13
URL:https://www.swmartialarts.com/event/junior-kickboxing-gryphon-leisure-centre-monday-2019-09-23-2021-11-15/
LOCATION:Gryphon Leisure Centre\, Bristol Road\, Sherborne\, DT9 4EQ
CATEGORIES:Kickboxing
END:VEVENT
BEGIN:VEVENT
DTSTART;TZID=Europe/London:20211112T190000
DTEND;TZID=Europe/London:20211112T195500
DTSTAMP:20260421T142247
CREATED:20180901T204709Z
LAST-MODIFIED:20211009T131919Z
UID:27382-1636743600-1636746900@www.swmartialarts.com
SUMMARY:Kickboxing\, Gryphon Leisure Centre (Friday)
DESCRIPTION:Kickboxing\, Gryphon Leisure Centre (Friday)
URL:https://www.swmartialarts.com/event/kickboxing-gryphon-2021-11-12/
LOCATION:Gryphon Leisure Centre\, Bristol Road\, Sherborne\, DT9 4EQ
CATEGORIES:Kickboxing
END:VEVENT
BEGIN:VEVENT
DTSTART;TZID=Europe/London:20211110T190000
DTEND;TZID=Europe/London:20211110T195500
DTSTAMP:20260421T142247
CREATED:20180901T203309Z
LAST-MODIFIED:20210619T083125Z
UID:27161-1636570800-1636574100@www.swmartialarts.com
SUMMARY:Kickboxing\, Gryphon Leisure Centre (Wednesday)
DESCRIPTION:Kickboxing\, Gryphon Leisure Centre (Wednesday)
URL:https://www.swmartialarts.com/event/kb-gryphon-3-2021-11-10/
LOCATION:Gryphon Leisure Centre\, Bristol Road\, Sherborne\, DT9 4EQ
CATEGORIES:Kickboxing
END:VEVENT
BEGIN:VEVENT
DTSTART;TZID=Europe/London:20211108T184500
DTEND;TZID=Europe/London:20211108T193000
DTSTAMP:20260421T142247
CREATED:20190901T154442Z
LAST-MODIFIED:20210711T141507Z
UID:26933-1636397100-1636399800@www.swmartialarts.com
SUMMARY:Adult Kickboxing\, Gryphon Leisure Centre (Monday)
DESCRIPTION:Adult Kickboxing\, Gryphon Leisure Centre (Monday) for ages 13 and above
URL:https://www.swmartialarts.com/event/adult-kickboxing-gryphon-leisure-centre-monday-2021-11-08/
LOCATION:Gryphon Leisure Centre\, Bristol Road\, Sherborne\, DT9 4EQ
CATEGORIES:Kickboxing
END:VEVENT
BEGIN:VEVENT
DTSTART;TZID=Europe/London:20211108T180000
DTEND;TZID=Europe/London:20211108T184500
DTSTAMP:20260421T142247
CREATED:20181213T224556Z
LAST-MODIFIED:20181213T224556Z
UID:26899-1636394400-1636397100@www.swmartialarts.com
SUMMARY:Junior Kickboxing\, Gryphon Leisure Centre (Monday)
DESCRIPTION:Junior Kickboxing\, Gryphon Leisure Centre (Monday) for ages 7 -13
URL:https://www.swmartialarts.com/event/junior-kickboxing-gryphon-leisure-centre-monday-2019-09-23-2021-11-08/
LOCATION:Gryphon Leisure Centre\, Bristol Road\, Sherborne\, DT9 4EQ
CATEGORIES:Kickboxing
END:VEVENT
BEGIN:VEVENT
DTSTART;TZID=Europe/London:20211008T190000
DTEND;TZID=Europe/London:20211008T200000
DTSTAMP:20260421T142247
CREATED:20210920T201738Z
LAST-MODIFIED:20211004T112243Z
UID:27499-1633719600-1633723200@www.swmartialarts.com
SUMMARY:Kickboxing Grading
DESCRIPTION:Kickboxing Grading
URL:https://www.swmartialarts.com/event/kickboxing-grading/
LOCATION:Gryphon Leisure Centre\, Bristol Road\, Sherborne\, DT9 4EQ
CATEGORIES:Grading,Kickboxing
END:VEVENT
BEGIN:VEVENT
DTSTART;VALUE=DATE:20210830
DTEND;VALUE=DATE:20210831
DTSTAMP:20260421T142247
CREATED:20181213T224556Z
LAST-MODIFIED:20210801T144208Z
UID:26889-1630281600-1630367999@www.swmartialarts.com
SUMMARY:Summer Closure
DESCRIPTION:Summer Closure
URL:https://www.swmartialarts.com/event/junior-kickboxing-gryphon-leisure-centre-monday-2019-09-23-2021-08-30/
LOCATION:Gryphon Leisure Centre\, Bristol Road\, Sherborne\, DT9 4EQ
CATEGORIES:Kickboxing
END:VEVENT
BEGIN:VEVENT
DTSTART;VALUE=DATE:20210809
DTEND;VALUE=DATE:20210810
DTSTAMP:20260421T142247
CREATED:20181213T224556Z
LAST-MODIFIED:20210801T133531Z
UID:26886-1628467200-1628553599@www.swmartialarts.com
SUMMARY:Summer Closure
DESCRIPTION:Summer Closure
URL:https://www.swmartialarts.com/event/junior-kickboxing-gryphon-leisure-centre-monday-2019-09-23-2021-08-09/
LOCATION:Gryphon Leisure Centre\, Bristol Road\, Sherborne\, DT9 4EQ
CATEGORIES:Kickboxing
END:VEVENT
BEGIN:VEVENT
DTSTART;TZID=Europe/London:20201021T184500
DTEND;TZID=Europe/London:20201021T193000
DTSTAMP:20260421T142247
CREATED:20180901T203309Z
LAST-MODIFIED:20201011T191348Z
UID:25929-1603305900-1603308600@www.swmartialarts.com
SUMMARY:Kickboxing\, Gryphon Leisure Centre (Wednesday)
DESCRIPTION:Kickboxing\, Gryphon Leisure Centre (Wednesday)
URL:https://www.swmartialarts.com/event/kb-gryphon-3-2020-10-21/
LOCATION:Gryphon Leisure Centre\, Bristol Road\, Sherborne\, DT9 4EQ
CATEGORIES:Kickboxing
END:VEVENT
BEGIN:VEVENT
DTSTART;TZID=Europe/London:20201020T200000
DTEND;TZID=Europe/London:20201020T204500
DTSTAMP:20260421T142247
CREATED:20191121T132419Z
LAST-MODIFIED:20201011T175626Z
UID:25767-1603224000-1603226700@www.swmartialarts.com
SUMMARY:Kickboxing\, Gym Yeovil (Tuesday)
DESCRIPTION:Kickboxing\, Gym Yeovil (Tuesday)
URL:https://www.swmartialarts.com/event/kickboxing-huish-primary-school-tuesday-2019-11-27-2019-12-10-2020-10-20/
LOCATION:Gym Yeovil\, 23 Artillery Rd\, Yeovil\, BA22 8RP
CATEGORIES:Kickboxing
END:VEVENT
BEGIN:VEVENT
DTSTART;TZID=Europe/London:20201019T190000
DTEND;TZID=Europe/London:20201019T194500
DTSTAMP:20260421T142247
CREATED:20190901T154442Z
LAST-MODIFIED:20201011T175017Z
UID:25665-1603134000-1603136700@www.swmartialarts.com
SUMMARY:Adult Kickboxing\, Gryphon Leisure Centre (Monday)
DESCRIPTION:Adult Kickboxing\, Gryphon Leisure Centre (Monday) for ages 13 and above
URL:https://www.swmartialarts.com/event/adult-kickboxing-gryphon-leisure-centre-monday-2020-10-19/
LOCATION:Gryphon Leisure Centre\, Bristol Road\, Sherborne\, DT9 4EQ
CATEGORIES:Kickboxing
END:VEVENT
BEGIN:VEVENT
DTSTART;TZID=Europe/London:20201019T180000
DTEND;TZID=Europe/London:20201019T184500
DTSTAMP:20260421T142247
CREATED:20181213T224556Z
LAST-MODIFIED:20201011T161737Z
UID:25725-1603130400-1603133100@www.swmartialarts.com
SUMMARY:Junior Kickboxing\, Gryphon Leisure Centre (Monday)
DESCRIPTION:Junior Kickboxing\, Gryphon Leisure Centre (Monday) for ages 7 -13
URL:https://www.swmartialarts.com/event/junior-kickboxing-gryphon-leisure-centre-monday-2019-09-23-2020-10-19/
LOCATION:Gryphon Leisure Centre\, Bristol Road\, Sherborne\, DT9 4EQ
CATEGORIES:Kickboxing
END:VEVENT
BEGIN:VEVENT
DTSTART;TZID=Europe/London:20201016T191500
DTEND;TZID=Europe/London:20201016T200000
DTSTAMP:20260421T142247
CREATED:20180901T204709Z
LAST-MODIFIED:20201005T195630Z
UID:26169-1602875700-1602878400@www.swmartialarts.com
SUMMARY:Kickboxing\, Gryphon Leisure Centre (Friday)
DESCRIPTION:Kickboxing\, Gryphon Leisure Centre (Friday)
URL:https://www.swmartialarts.com/event/kickboxing-gryphon-2020-10-16/
LOCATION:Gryphon Leisure Centre\, Bristol Road\, Sherborne\, DT9 4EQ
CATEGORIES:Kickboxing
END:VEVENT
BEGIN:VEVENT
DTSTART;TZID=Europe/London:20201014T184500
DTEND;TZID=Europe/London:20201014T193000
DTSTAMP:20260421T142247
CREATED:20180901T203309Z
LAST-MODIFIED:20201005T194736Z
UID:25928-1602701100-1602703800@www.swmartialarts.com
SUMMARY:Kickboxing\, Gryphon Leisure Centre (Wednesday)
DESCRIPTION:Kickboxing\, Gryphon Leisure Centre (Wednesday)
URL:https://www.swmartialarts.com/event/kb-gryphon-3-2020-10-14/
LOCATION:Gryphon Leisure Centre\, Bristol Road\, Sherborne\, DT9 4EQ
CATEGORIES:Kickboxing
END:VEVENT
BEGIN:VEVENT
DTSTART;TZID=Europe/London:20201013T200000
DTEND;TZID=Europe/London:20201013T204500
DTSTAMP:20260421T142247
CREATED:20191121T132419Z
LAST-MODIFIED:20201005T193817Z
UID:25766-1602619200-1602621900@www.swmartialarts.com
SUMMARY:Kickboxing\, Gym Yeovil (Tuesday)
DESCRIPTION:Kickboxing\, Gym Yeovil (Tuesday)
URL:https://www.swmartialarts.com/event/kickboxing-huish-primary-school-tuesday-2019-11-27-2019-12-10-2020-10-13/
LOCATION:Gym Yeovil\, 23 Artillery Rd\, Yeovil\, BA22 8RP
CATEGORIES:Kickboxing
END:VEVENT
BEGIN:VEVENT
DTSTART;TZID=Europe/London:20201012T190000
DTEND;TZID=Europe/London:20201012T194500
DTSTAMP:20260421T142247
CREATED:20190901T154442Z
LAST-MODIFIED:20201005T192822Z
UID:25664-1602529200-1602531900@www.swmartialarts.com
SUMMARY:Adult Kickboxing\, Gryphon Leisure Centre (Monday)
DESCRIPTION:Adult Kickboxing\, Gryphon Leisure Centre (Monday) for ages 13 and above
URL:https://www.swmartialarts.com/event/adult-kickboxing-gryphon-leisure-centre-monday-2020-10-12/
LOCATION:Gryphon Leisure Centre\, Bristol Road\, Sherborne\, DT9 4EQ
CATEGORIES:Kickboxing
END:VEVENT
BEGIN:VEVENT
DTSTART;TZID=Europe/London:20201012T180000
DTEND;TZID=Europe/London:20201012T184500
DTSTAMP:20260421T142247
CREATED:20181213T224556Z
LAST-MODIFIED:20201005T192601Z
UID:25724-1602525600-1602528300@www.swmartialarts.com
SUMMARY:Junior Kickboxing\, Gryphon Leisure Centre (Monday)
DESCRIPTION:Junior Kickboxing\, Gryphon Leisure Centre (Monday) for ages 7 -13
URL:https://www.swmartialarts.com/event/junior-kickboxing-gryphon-leisure-centre-monday-2019-09-23-2020-10-12/
LOCATION:Gryphon Leisure Centre\, Bristol Road\, Sherborne\, DT9 4EQ
CATEGORIES:Kickboxing
END:VEVENT
BEGIN:VEVENT
DTSTART;TZID=Europe/London:20200911T191500
DTEND;TZID=Europe/London:20200911T200000
DTSTAMP:20260421T142247
CREATED:20180901T204709Z
LAST-MODIFIED:20200911T064852Z
UID:26125-1599851700-1599854400@www.swmartialarts.com
SUMMARY:Kickboxing\, Gryphon Leisure Centre (Friday)
DESCRIPTION:Kickboxing\, Gryphon Leisure Centre (Friday)
URL:https://www.swmartialarts.com/event/kickboxing-gryphon-2020-09-11/
LOCATION:Gryphon Leisure Centre\, Bristol Road\, Sherborne\, DT9 4EQ
CATEGORIES:Kickboxing
END:VEVENT
BEGIN:VEVENT
DTSTART;TZID=Europe/London:20200907T180000
DTEND;TZID=Europe/London:20200907T190000
DTSTAMP:20260421T142247
CREATED:20181213T224556Z
LAST-MODIFIED:20200906T150756Z
UID:25719-1599501600-1599505200@www.swmartialarts.com
SUMMARY:Kickboxing (Mixed)\, Gryphon Leisure Centre (Monday)
DESCRIPTION:Kickboxing (Mixed)\, Gryphon Leisure Centre (Monday)
URL:https://www.swmartialarts.com/event/junior-kickboxing-gryphon-leisure-centre-monday-2019-09-23-2020-09-07/
LOCATION:Gryphon Leisure Centre\, Bristol Road\, Sherborne\, DT9 4EQ
CATEGORIES:Kickboxing
END:VEVENT
BEGIN:VEVENT
DTSTART;TZID=Europe/London:20200131T183000
DTEND;TZID=Europe/London:20200131T193000
DTSTAMP:20260421T142247
CREATED:20191201T184109Z
LAST-MODIFIED:20200816T151203Z
UID:25497-1580495400-1580499000@www.swmartialarts.com
SUMMARY:Kickboxing Grading\, Gryphon Leisure Centre
DESCRIPTION:Kickboxing Grading\, Gryphon Leisure Centre
URL:https://www.swmartialarts.com/event/kickboxing-grading-gryphon-leisure-centre-2/
LOCATION:Gryphon Leisure Centre\, Bristol Road\, Sherborne\, DT9 4EQ
CATEGORIES:Grading,Kickboxing
END:VEVENT
END:VCALENDAR