BEGIN:VCALENDAR
VERSION:2.0
PRODID:-//South West Martial Arts - ECPv6.15.17.1//NONSGML v1.0//EN
CALSCALE:GREGORIAN
METHOD:PUBLISH
X-WR-CALNAME:South West Martial Arts
X-ORIGINAL-URL:https://www.swmartialarts.com
X-WR-CALDESC:Events for South West Martial Arts
REFRESH-INTERVAL;VALUE=DURATION:PT1H
X-Robots-Tag:noindex
X-PUBLISHED-TTL:PT1H
BEGIN:VTIMEZONE
TZID:Europe/London
BEGIN:DAYLIGHT
TZOFFSETFROM:+0000
TZOFFSETTO:+0100
TZNAME:BST
DTSTART:20200329T010000
END:DAYLIGHT
BEGIN:STANDARD
TZOFFSETFROM:+0100
TZOFFSETTO:+0000
TZNAME:GMT
DTSTART:20201025T010000
END:STANDARD
BEGIN:DAYLIGHT
TZOFFSETFROM:+0000
TZOFFSETTO:+0100
TZNAME:BST
DTSTART:20210328T010000
END:DAYLIGHT
BEGIN:STANDARD
TZOFFSETFROM:+0100
TZOFFSETTO:+0000
TZNAME:GMT
DTSTART:20211031T010000
END:STANDARD
BEGIN:DAYLIGHT
TZOFFSETFROM:+0000
TZOFFSETTO:+0100
TZNAME:BST
DTSTART:20220327T010000
END:DAYLIGHT
BEGIN:STANDARD
TZOFFSETFROM:+0100
TZOFFSETTO:+0000
TZNAME:GMT
DTSTART:20221030T010000
END:STANDARD
BEGIN:DAYLIGHT
TZOFFSETFROM:+0000
TZOFFSETTO:+0100
TZNAME:BST
DTSTART:20230326T010000
END:DAYLIGHT
BEGIN:STANDARD
TZOFFSETFROM:+0100
TZOFFSETTO:+0000
TZNAME:GMT
DTSTART:20231029T010000
END:STANDARD
END:VTIMEZONE
BEGIN:VEVENT
DTSTART;TZID=Europe/London:20220408T190000
DTEND;TZID=Europe/London:20220408T195500
DTSTAMP:20260421T123229
CREATED:20180901T204709Z
LAST-MODIFIED:20180901T204709Z
UID:27729-1649444400-1649447700@www.swmartialarts.com
SUMMARY:Kickboxing\, Gryphon Leisure Centre (Friday)
DESCRIPTION:Kickboxing\, Gryphon Leisure Centre (Friday)
URL:https://www.swmartialarts.com/event/kickboxing-gryphon-2022-04-08/
LOCATION:Gryphon Leisure Centre\, Bristol Road\, Sherborne\, DT9 4EQ
CATEGORIES:Kickboxing
END:VEVENT
BEGIN:VEVENT
DTSTART;TZID=Europe/London:20220401T190000
DTEND;TZID=Europe/London:20220401T195500
DTSTAMP:20260421T123229
CREATED:20180901T204709Z
LAST-MODIFIED:20180901T204709Z
UID:27728-1648839600-1648842900@www.swmartialarts.com
SUMMARY:Kickboxing\, Gryphon Leisure Centre (Friday)
DESCRIPTION:Kickboxing\, Gryphon Leisure Centre (Friday)
URL:https://www.swmartialarts.com/event/kickboxing-gryphon-2022-04-01/
LOCATION:Gryphon Leisure Centre\, Bristol Road\, Sherborne\, DT9 4EQ
CATEGORIES:Kickboxing
END:VEVENT
BEGIN:VEVENT
DTSTART;TZID=Europe/London:20220318T190000
DTEND;TZID=Europe/London:20220318T195500
DTSTAMP:20260421T123229
CREATED:20180901T204709Z
LAST-MODIFIED:20180901T204709Z
UID:27727-1647630000-1647633300@www.swmartialarts.com
SUMMARY:Kickboxing\, Gryphon Leisure Centre (Friday)
DESCRIPTION:Kickboxing\, Gryphon Leisure Centre (Friday)
URL:https://www.swmartialarts.com/event/kickboxing-gryphon-2022-03-18/
LOCATION:Gryphon Leisure Centre\, Bristol Road\, Sherborne\, DT9 4EQ
CATEGORIES:Kickboxing
END:VEVENT
BEGIN:VEVENT
DTSTART;TZID=Europe/London:20220311T190000
DTEND;TZID=Europe/London:20220311T195500
DTSTAMP:20260421T123229
CREATED:20180901T204709Z
LAST-MODIFIED:20180901T204709Z
UID:27726-1647025200-1647028500@www.swmartialarts.com
SUMMARY:Kickboxing\, Gryphon Leisure Centre (Friday)
DESCRIPTION:Kickboxing\, Gryphon Leisure Centre (Friday)
URL:https://www.swmartialarts.com/event/kickboxing-gryphon-2022-03-11/
LOCATION:Gryphon Leisure Centre\, Bristol Road\, Sherborne\, DT9 4EQ
CATEGORIES:Kickboxing
END:VEVENT
BEGIN:VEVENT
DTSTART;TZID=Europe/London:20220304T190000
DTEND;TZID=Europe/London:20220304T195500
DTSTAMP:20260421T123229
CREATED:20180901T204709Z
LAST-MODIFIED:20180901T204709Z
UID:27725-1646420400-1646423700@www.swmartialarts.com
SUMMARY:Kickboxing\, Gryphon Leisure Centre (Friday)
DESCRIPTION:Kickboxing\, Gryphon Leisure Centre (Friday)
URL:https://www.swmartialarts.com/event/kickboxing-gryphon-2022-03-04/
LOCATION:Gryphon Leisure Centre\, Bristol Road\, Sherborne\, DT9 4EQ
CATEGORIES:Kickboxing
END:VEVENT
BEGIN:VEVENT
DTSTART;TZID=Europe/London:20220218T190000
DTEND;TZID=Europe/London:20220218T195500
DTSTAMP:20260421T123229
CREATED:20180901T204709Z
LAST-MODIFIED:20180901T204709Z
UID:27724-1645210800-1645214100@www.swmartialarts.com
SUMMARY:Kickboxing\, Gryphon Leisure Centre (Friday)
DESCRIPTION:Kickboxing\, Gryphon Leisure Centre (Friday)
URL:https://www.swmartialarts.com/event/kickboxing-gryphon-2022-02-18/
LOCATION:Gryphon Leisure Centre\, Bristol Road\, Sherborne\, DT9 4EQ
CATEGORIES:Kickboxing
END:VEVENT
BEGIN:VEVENT
DTSTART;TZID=Europe/London:20220211T190000
DTEND;TZID=Europe/London:20220211T195500
DTSTAMP:20260421T123229
CREATED:20180901T204709Z
LAST-MODIFIED:20180901T204709Z
UID:27723-1644606000-1644609300@www.swmartialarts.com
SUMMARY:Kickboxing\, Gryphon Leisure Centre (Friday)
DESCRIPTION:Kickboxing\, Gryphon Leisure Centre (Friday)
URL:https://www.swmartialarts.com/event/kickboxing-gryphon-2022-02-11/
LOCATION:Gryphon Leisure Centre\, Bristol Road\, Sherborne\, DT9 4EQ
CATEGORIES:Kickboxing
END:VEVENT
BEGIN:VEVENT
DTSTART;TZID=Europe/London:20220204T190000
DTEND;TZID=Europe/London:20220204T195500
DTSTAMP:20260421T123229
CREATED:20180901T204709Z
LAST-MODIFIED:20180901T204709Z
UID:27722-1644001200-1644004500@www.swmartialarts.com
SUMMARY:Kickboxing\, Gryphon Leisure Centre (Friday)
DESCRIPTION:Kickboxing\, Gryphon Leisure Centre (Friday)
URL:https://www.swmartialarts.com/event/kickboxing-gryphon-2022-02-04/
LOCATION:Gryphon Leisure Centre\, Bristol Road\, Sherborne\, DT9 4EQ
CATEGORIES:Kickboxing
END:VEVENT
BEGIN:VEVENT
DTSTART;TZID=Europe/London:20220121T190000
DTEND;TZID=Europe/London:20220121T195500
DTSTAMP:20260421T123229
CREATED:20180901T204709Z
LAST-MODIFIED:20180901T204709Z
UID:27721-1642791600-1642794900@www.swmartialarts.com
SUMMARY:Kickboxing\, Gryphon Leisure Centre (Friday)
DESCRIPTION:Kickboxing\, Gryphon Leisure Centre (Friday)
URL:https://www.swmartialarts.com/event/kickboxing-gryphon-2022-01-21/
LOCATION:Gryphon Leisure Centre\, Bristol Road\, Sherborne\, DT9 4EQ
CATEGORIES:Kickboxing
END:VEVENT
BEGIN:VEVENT
DTSTART;TZID=Europe/London:20220114T190000
DTEND;TZID=Europe/London:20220114T195500
DTSTAMP:20260421T123229
CREATED:20180901T204709Z
LAST-MODIFIED:20180901T204709Z
UID:27720-1642186800-1642190100@www.swmartialarts.com
SUMMARY:Kickboxing\, Gryphon Leisure Centre (Friday)
DESCRIPTION:Kickboxing\, Gryphon Leisure Centre (Friday)
URL:https://www.swmartialarts.com/event/kickboxing-gryphon-2022-01-14/
LOCATION:Gryphon Leisure Centre\, Bristol Road\, Sherborne\, DT9 4EQ
CATEGORIES:Kickboxing
END:VEVENT
BEGIN:VEVENT
DTSTART;TZID=Europe/London:20220107T190000
DTEND;TZID=Europe/London:20220107T195500
DTSTAMP:20260421T123229
CREATED:20180901T204709Z
LAST-MODIFIED:20180901T204709Z
UID:27719-1641582000-1641585300@www.swmartialarts.com
SUMMARY:Kickboxing\, Gryphon Leisure Centre (Friday)
DESCRIPTION:Kickboxing\, Gryphon Leisure Centre (Friday)
URL:https://www.swmartialarts.com/event/kickboxing-gryphon-2022-01-07/
LOCATION:Gryphon Leisure Centre\, Bristol Road\, Sherborne\, DT9 4EQ
CATEGORIES:Kickboxing
END:VEVENT
BEGIN:VEVENT
DTSTART;TZID=Europe/London:20211224T190000
DTEND;TZID=Europe/London:20211224T195500
DTSTAMP:20260421T123229
CREATED:20180901T204709Z
LAST-MODIFIED:20180901T204709Z
UID:27718-1640372400-1640375700@www.swmartialarts.com
SUMMARY:Kickboxing\, Gryphon Leisure Centre (Friday)
DESCRIPTION:Kickboxing\, Gryphon Leisure Centre (Friday)
URL:https://www.swmartialarts.com/event/kickboxing-gryphon-2021-12-24/
LOCATION:Gryphon Leisure Centre\, Bristol Road\, Sherborne\, DT9 4EQ
CATEGORIES:Kickboxing
END:VEVENT
BEGIN:VEVENT
DTSTART;TZID=Europe/London:20211217T190000
DTEND;TZID=Europe/London:20211217T195500
DTSTAMP:20260421T123229
CREATED:20180901T204709Z
LAST-MODIFIED:20211009T131920Z
UID:27387-1639767600-1639770900@www.swmartialarts.com
SUMMARY:Kickboxing\, Gryphon Leisure Centre (Friday)
DESCRIPTION:Kickboxing\, Gryphon Leisure Centre (Friday)
URL:https://www.swmartialarts.com/event/kickboxing-gryphon-2021-12-17/
LOCATION:Gryphon Leisure Centre\, Bristol Road\, Sherborne\, DT9 4EQ
CATEGORIES:Kickboxing
END:VEVENT
BEGIN:VEVENT
DTSTART;TZID=Europe/London:20211215T190000
DTEND;TZID=Europe/London:20211215T195500
DTSTAMP:20260421T123229
CREATED:20180901T203309Z
LAST-MODIFIED:20210619T083131Z
UID:27166-1639594800-1639598100@www.swmartialarts.com
SUMMARY:Kickboxing\, Gryphon Leisure Centre (Wednesday)
DESCRIPTION:Kickboxing\, Gryphon Leisure Centre (Wednesday)
URL:https://www.swmartialarts.com/event/kb-gryphon-3-2021-12-15/
LOCATION:Gryphon Leisure Centre\, Bristol Road\, Sherborne\, DT9 4EQ
CATEGORIES:Kickboxing
END:VEVENT
BEGIN:VEVENT
DTSTART;TZID=Europe/London:20211213T184500
DTEND;TZID=Europe/London:20211213T193000
DTSTAMP:20260421T123229
CREATED:20190901T154442Z
LAST-MODIFIED:20211216T131333Z
UID:26938-1639421100-1639423800@www.swmartialarts.com
SUMMARY:Adult Kickboxing\, Gryphon Leisure Centre (Monday)
DESCRIPTION:Adult Kickboxing\, Gryphon Leisure Centre (Monday) for ages 13 and above
URL:https://www.swmartialarts.com/event/adult-kickboxing-gryphon-leisure-centre-monday-2021-12-13/
LOCATION:Gryphon Leisure Centre\, Bristol Road\, Sherborne\, DT9 4EQ
CATEGORIES:Kickboxing
END:VEVENT
BEGIN:VEVENT
DTSTART;TZID=Europe/London:20211213T180000
DTEND;TZID=Europe/London:20211213T184500
DTSTAMP:20260421T123229
CREATED:20181213T224556Z
LAST-MODIFIED:20181213T224556Z
UID:26904-1639418400-1639421100@www.swmartialarts.com
SUMMARY:Junior Kickboxing\, Gryphon Leisure Centre (Monday)
DESCRIPTION:Junior Kickboxing\, Gryphon Leisure Centre (Monday) for ages 7 -13
URL:https://www.swmartialarts.com/event/junior-kickboxing-gryphon-leisure-centre-monday-2019-09-23-2021-12-13/
LOCATION:Gryphon Leisure Centre\, Bristol Road\, Sherborne\, DT9 4EQ
CATEGORIES:Kickboxing
END:VEVENT
BEGIN:VEVENT
DTSTART;TZID=Europe/London:20211210T190000
DTEND;TZID=Europe/London:20211210T195500
DTSTAMP:20260421T123229
CREATED:20180901T204709Z
LAST-MODIFIED:20211009T131919Z
UID:27386-1639162800-1639166100@www.swmartialarts.com
SUMMARY:Kickboxing\, Gryphon Leisure Centre (Friday)
DESCRIPTION:Kickboxing\, Gryphon Leisure Centre (Friday)
URL:https://www.swmartialarts.com/event/kickboxing-gryphon-2021-12-10/
LOCATION:Gryphon Leisure Centre\, Bristol Road\, Sherborne\, DT9 4EQ
CATEGORIES:Kickboxing
END:VEVENT
BEGIN:VEVENT
DTSTART;TZID=Europe/London:20211208T190000
DTEND;TZID=Europe/London:20211208T195500
DTSTAMP:20260421T123229
CREATED:20180901T203309Z
LAST-MODIFIED:20210619T083126Z
UID:27165-1638990000-1638993300@www.swmartialarts.com
SUMMARY:Kickboxing\, Gryphon Leisure Centre (Wednesday)
DESCRIPTION:Kickboxing\, Gryphon Leisure Centre (Wednesday)
URL:https://www.swmartialarts.com/event/kb-gryphon-3-2021-12-08/
LOCATION:Gryphon Leisure Centre\, Bristol Road\, Sherborne\, DT9 4EQ
CATEGORIES:Kickboxing
END:VEVENT
BEGIN:VEVENT
DTSTART;TZID=Europe/London:20211206T184500
DTEND;TZID=Europe/London:20211206T193000
DTSTAMP:20260421T123229
CREATED:20190901T154442Z
LAST-MODIFIED:20210711T141507Z
UID:26937-1638816300-1638819000@www.swmartialarts.com
SUMMARY:Adult Kickboxing\, Gryphon Leisure Centre (Monday)
DESCRIPTION:Adult Kickboxing\, Gryphon Leisure Centre (Monday) for ages 13 and above
URL:https://www.swmartialarts.com/event/adult-kickboxing-gryphon-leisure-centre-monday-2021-12-06/
LOCATION:Gryphon Leisure Centre\, Bristol Road\, Sherborne\, DT9 4EQ
CATEGORIES:Kickboxing
END:VEVENT
BEGIN:VEVENT
DTSTART;TZID=Europe/London:20211206T180000
DTEND;TZID=Europe/London:20211206T184500
DTSTAMP:20260421T123229
CREATED:20181213T224556Z
LAST-MODIFIED:20181213T224556Z
UID:26903-1638813600-1638816300@www.swmartialarts.com
SUMMARY:Junior Kickboxing\, Gryphon Leisure Centre (Monday)
DESCRIPTION:Junior Kickboxing\, Gryphon Leisure Centre (Monday) for ages 7 -13
URL:https://www.swmartialarts.com/event/junior-kickboxing-gryphon-leisure-centre-monday-2019-09-23-2021-12-06/
LOCATION:Gryphon Leisure Centre\, Bristol Road\, Sherborne\, DT9 4EQ
CATEGORIES:Kickboxing
END:VEVENT
BEGIN:VEVENT
DTSTART;TZID=Europe/London:20211203T190000
DTEND;TZID=Europe/London:20211203T195500
DTSTAMP:20260421T123229
CREATED:20180901T204709Z
LAST-MODIFIED:20211009T131919Z
UID:27385-1638558000-1638561300@www.swmartialarts.com
SUMMARY:Kickboxing\, Gryphon Leisure Centre (Friday)
DESCRIPTION:Kickboxing\, Gryphon Leisure Centre (Friday)
URL:https://www.swmartialarts.com/event/kickboxing-gryphon-2021-12-03/
LOCATION:Gryphon Leisure Centre\, Bristol Road\, Sherborne\, DT9 4EQ
CATEGORIES:Kickboxing
END:VEVENT
BEGIN:VEVENT
DTSTART;TZID=Europe/London:20211201T190000
DTEND;TZID=Europe/London:20211201T195500
DTSTAMP:20260421T123229
CREATED:20180901T203309Z
LAST-MODIFIED:20210619T083126Z
UID:27164-1638385200-1638388500@www.swmartialarts.com
SUMMARY:Kickboxing\, Gryphon Leisure Centre (Wednesday)
DESCRIPTION:Kickboxing\, Gryphon Leisure Centre (Wednesday)
URL:https://www.swmartialarts.com/event/kb-gryphon-3-2021-12-01/
LOCATION:Gryphon Leisure Centre\, Bristol Road\, Sherborne\, DT9 4EQ
CATEGORIES:Kickboxing
END:VEVENT
BEGIN:VEVENT
DTSTART;TZID=Europe/London:20211129T184500
DTEND;TZID=Europe/London:20211129T193000
DTSTAMP:20260421T123229
CREATED:20190901T154442Z
LAST-MODIFIED:20210711T141507Z
UID:26936-1638211500-1638214200@www.swmartialarts.com
SUMMARY:Adult Kickboxing\, Gryphon Leisure Centre (Monday)
DESCRIPTION:Adult Kickboxing\, Gryphon Leisure Centre (Monday) for ages 13 and above
URL:https://www.swmartialarts.com/event/adult-kickboxing-gryphon-leisure-centre-monday-2021-11-29/
LOCATION:Gryphon Leisure Centre\, Bristol Road\, Sherborne\, DT9 4EQ
CATEGORIES:Kickboxing
END:VEVENT
BEGIN:VEVENT
DTSTART;TZID=Europe/London:20211129T180000
DTEND;TZID=Europe/London:20211129T184500
DTSTAMP:20260421T123229
CREATED:20181213T224556Z
LAST-MODIFIED:20181213T224556Z
UID:26902-1638208800-1638211500@www.swmartialarts.com
SUMMARY:Junior Kickboxing\, Gryphon Leisure Centre (Monday)
DESCRIPTION:Junior Kickboxing\, Gryphon Leisure Centre (Monday) for ages 7 -13
URL:https://www.swmartialarts.com/event/junior-kickboxing-gryphon-leisure-centre-monday-2019-09-23-2021-11-29/
LOCATION:Gryphon Leisure Centre\, Bristol Road\, Sherborne\, DT9 4EQ
CATEGORIES:Kickboxing
END:VEVENT
BEGIN:VEVENT
DTSTART;TZID=Europe/London:20211124T190000
DTEND;TZID=Europe/London:20211124T195500
DTSTAMP:20260421T123229
CREATED:20180901T203309Z
LAST-MODIFIED:20210619T083125Z
UID:27163-1637780400-1637783700@www.swmartialarts.com
SUMMARY:Kickboxing\, Gryphon Leisure Centre (Wednesday)
DESCRIPTION:Kickboxing\, Gryphon Leisure Centre (Wednesday)
URL:https://www.swmartialarts.com/event/kb-gryphon-3-2021-11-24/
LOCATION:Gryphon Leisure Centre\, Bristol Road\, Sherborne\, DT9 4EQ
CATEGORIES:Kickboxing
END:VEVENT
BEGIN:VEVENT
DTSTART;TZID=Europe/London:20211122T184500
DTEND;TZID=Europe/London:20211122T193000
DTSTAMP:20260421T123229
CREATED:20190901T154442Z
LAST-MODIFIED:20210711T141507Z
UID:26935-1637606700-1637609400@www.swmartialarts.com
SUMMARY:Adult Kickboxing\, Gryphon Leisure Centre (Monday)
DESCRIPTION:Adult Kickboxing\, Gryphon Leisure Centre (Monday) for ages 13 and above
URL:https://www.swmartialarts.com/event/adult-kickboxing-gryphon-leisure-centre-monday-2021-11-22/
LOCATION:Gryphon Leisure Centre\, Bristol Road\, Sherborne\, DT9 4EQ
CATEGORIES:Kickboxing
END:VEVENT
BEGIN:VEVENT
DTSTART;TZID=Europe/London:20211122T180000
DTEND;TZID=Europe/London:20211122T184500
DTSTAMP:20260421T123229
CREATED:20181213T224556Z
LAST-MODIFIED:20181213T224556Z
UID:26901-1637604000-1637606700@www.swmartialarts.com
SUMMARY:Junior Kickboxing\, Gryphon Leisure Centre (Monday)
DESCRIPTION:Junior Kickboxing\, Gryphon Leisure Centre (Monday) for ages 7 -13
URL:https://www.swmartialarts.com/event/junior-kickboxing-gryphon-leisure-centre-monday-2019-09-23-2021-11-22/
LOCATION:Gryphon Leisure Centre\, Bristol Road\, Sherborne\, DT9 4EQ
CATEGORIES:Kickboxing
END:VEVENT
BEGIN:VEVENT
DTSTART;TZID=Europe/London:20211119T190000
DTEND;TZID=Europe/London:20211119T195500
DTSTAMP:20260421T123229
CREATED:20180901T204709Z
LAST-MODIFIED:20211009T131919Z
UID:27383-1637348400-1637351700@www.swmartialarts.com
SUMMARY:Kickboxing\, Gryphon Leisure Centre (Friday)
DESCRIPTION:Kickboxing\, Gryphon Leisure Centre (Friday)
URL:https://www.swmartialarts.com/event/kickboxing-gryphon-2021-11-19/
LOCATION:Gryphon Leisure Centre\, Bristol Road\, Sherborne\, DT9 4EQ
CATEGORIES:Kickboxing
END:VEVENT
BEGIN:VEVENT
DTSTART;TZID=Europe/London:20211117T190000
DTEND;TZID=Europe/London:20211117T195500
DTSTAMP:20260421T123229
CREATED:20180901T203309Z
LAST-MODIFIED:20210619T083125Z
UID:27162-1637175600-1637178900@www.swmartialarts.com
SUMMARY:Kickboxing\, Gryphon Leisure Centre (Wednesday)
DESCRIPTION:Kickboxing\, Gryphon Leisure Centre (Wednesday)
URL:https://www.swmartialarts.com/event/kb-gryphon-3-2021-11-17/
LOCATION:Gryphon Leisure Centre\, Bristol Road\, Sherborne\, DT9 4EQ
CATEGORIES:Kickboxing
END:VEVENT
BEGIN:VEVENT
DTSTART;TZID=Europe/London:20211115T184500
DTEND;TZID=Europe/London:20211115T193000
DTSTAMP:20260421T123229
CREATED:20190901T154442Z
LAST-MODIFIED:20210711T141507Z
UID:26934-1637001900-1637004600@www.swmartialarts.com
SUMMARY:Adult Kickboxing\, Gryphon Leisure Centre (Monday)
DESCRIPTION:Adult Kickboxing\, Gryphon Leisure Centre (Monday) for ages 13 and above
URL:https://www.swmartialarts.com/event/adult-kickboxing-gryphon-leisure-centre-monday-2021-11-15/
LOCATION:Gryphon Leisure Centre\, Bristol Road\, Sherborne\, DT9 4EQ
CATEGORIES:Kickboxing
END:VEVENT
END:VCALENDAR